BEGIN:VCALENDAR
VERSION:2.0
PRODID:-//ChamberMaster//Event Calendar 2.0//EN
METHOD:PUBLISH
X-PUBLISHED-TTL:P3D
REFRESH-INTERVAL:P3D
CALSCALE:GREGORIAN
BEGIN:VEVENT
DTSTART:20250911T120000Z
DTEND:20250911T200000Z
X-MICROSOFT-CDO-ALLDAYEVENT:FALSE
SUMMARY:Ädelbrook's 29th Annual Golf for Kids Tournament
DESCRIPTION:delbrook is proud to host the 29th Annual Golf for Kids Tournament on September 11th at Lyman Orchards to raise funds for individuals with autism\, intellectual & developmental disabilities.\n\n\n\nDuring this event\, connect with other mission-driven organizations while making an impact in the lives of those we serve.\n\n\n\nParticipants will also enjoy exciting raffle items\, a putting contest\, a silent auction\, a student art display\, and more.\n\n\n\nMost importantly\, attendees will learn about  delbrook's impactful 125-\n\nyear old history of lighting the way for youth and young adults with autism across Connecticut.\n\n\n\nTo register to play or explore sponsorship opportunities\, please visit\n\nhttps://adelbrookgolfforkids2025.funraise.org.\n\n\n\nThank you for helping  delbrook provide achievement\, happiness\, and hope to individuals with autism\, intellectual\, and developmental disabilities!
X-ALT-DESC;FMTTYPE=text/html:<span style="font-size:18px\;">&Auml\;delbrook is proud to host the <strong>29th Annual Golf for Kids Tournament</strong> on <strong>September 11th</strong> at <strong>Lyman Orchards</strong> to raise funds for individuals with autism\, intellectual &amp\; developmental disabilities.<br />\n<br />\nDuring this event\, connect with other mission-driven organizations while making an impact in the lives of those we serve.<br />\n<br />\nParticipants will also enjoy exciting raffle items\, a putting contest\, a silent auction\, a student art display\, and more.<br />\n<br />\nMost importantly\, attendees will learn about &Auml\;delbrook&rsquo\;s impactful 125-<br />\nyear old history of lighting the way for youth and young adults with autism across Connecticut.<br />\n<br />\nTo register to play or explore sponsorship opportunities\, please visit<br />\n<span style="color:rgb(5\,99\,193)">https://adelbrookgolfforkids2025.funraise.org</span>.<br />\n<br />\nThank you for helping &Auml\;delbrook provide achievement\, happiness\, and hope to individuals with autism\, intellectual\, and developmental disabilities!</span>
LOCATION:Lyman Orchards Golf Course 70 Lyman Road Middlefield\, CT
UID:e.1932.32505
SEQUENCE:3
DTSTAMP:20260424T224410Z
URL:https://business.middlesexchamber.com/events/details/&#228;delbrook-s-29th-annual-golf-for-kids-tournament-32505
END:VEVENT

END:VCALENDAR
