BEGIN:VCALENDAR
VERSION:2.0
PRODID:-//ChamberMaster//Event Calendar 2.0//EN
METHOD:PUBLISH
X-PUBLISHED-TTL:P3D
REFRESH-INTERVAL:P3D
CALSCALE:GREGORIAN
BEGIN:VEVENT
DTSTART:20170803T223000Z
DTEND:20170804T003000Z
X-MICROSOFT-CDO-ALLDAYEVENT:FALSE
SUMMARY:Young Professionals Alliance
DESCRIPTION:Join us for a night at the New Britain Bees Stadium\n\n\n\nWhat you get: Field Box Ticket\, Hot Dog\, Bag of Chips\, and a Pepsi Soft Drink\n\n\n\nAlso enjoy half-priced domestic beers for the Bee's weekly Thirsty Thursday!
X-ALT-DESC;FMTTYPE=text/html:&nbsp\;&nbsp\;<br />\nJoin us for a night at the New Britain Bees Stadium<br />\n<br />\nWhat you get: Field Box Ticket\, Hot Dog\, Bag of Chips\, and a Pepsi Soft Drink<br />\n<br />\nAlso enjoy half-priced domestic beers for the Bee&#39\;s weekly Thirsty Thursday!
LOCATION:New Britain Bees Stadium 230 John Karbonic Way New Britain\, CT
UID:e.1932.4554
SEQUENCE:3
DTSTAMP:20260424T145516Z
URL:https://business.middlesexchamber.com/events/details/young-professionals-alliance-4554
END:VEVENT

END:VCALENDAR
