BEGIN:VCALENDAR
VERSION:2.0
PRODID:-//ChamberMaster//Event Calendar 2.0//EN
METHOD:PUBLISH
X-PUBLISHED-TTL:P3D
REFRESH-INTERVAL:P3D
CALSCALE:GREGORIAN
BEGIN:VEVENT
DTSTART:20210810T150000Z
DTEND:20210810T160000Z
X-MICROSOFT-CDO-ALLDAYEVENT:FALSE
SUMMARY:You Are What You Breathe: Air Quality and Lung Health
DESCRIPTION:Please join Gaylord Specialty Healthcare's Emily Woodworth\, BS\, RRT-ACCS\, as she discusses the effects of air quality on your lung health.\n\n \n\nSome of the following topics will be discussed:\n\n \n\n-The effects of air quality on lung health\n\n-Steps to maintain good air quality in the home\n\n-The role of air quality in patients with chronic lung disease\n\n-Indoor and outdoor air pollutants\n\n\n\n**Q&A opportunity towards the end of the presentation**\n\n\n\nIf you're interested in attending this Zoom presentation\, please register here:\n\nhttps://russelllibrary.libcal.com/event/7879363
X-ALT-DESC;FMTTYPE=text/html:<div>Please join Gaylord Specialty Healthcare&#39\;s Emily Woodworth\, BS\, RRT-ACCS\, as she discusses the effects of air quality on your lung health.<br />\n&nbsp\;</div>\n\n<div>Some of the following topics will be discussed:<br />\n&nbsp\;</div>\n\n<div>-The effects of air quality on lung health<br />\n-Steps to maintain good air quality in the home<br />\n-The role of air quality in patients with chronic lung disease<br />\n-Indoor and outdoor air pollutants</div>\n\n<div><br />\n**Q&amp\;A opportunity towards the end of the presentation**</div>\n\n<div><br />\nIf you&#39\;re interested in attending this Zoom presentation\, please register here:<br />\n<a class="oajrlxb2 g5ia77u1 qu0x051f esr5mh6w e9989ue4 r7d6kgcz rq0escxv nhd2j8a9 nc684nl6 p7hjln8o kvgmc6g5 cxmmr5t8 oygrvhab hcukyx3x jb3vyjys rz4wbd8a qt6c0cv9 a8nywdso i1ao9s8h esuyzwwr f1sip0of lzcic4wl py34i1dx gpro0wi8" href="https://russelllibrary.libcal.com/event/7879363?fbclid=IwAR0jsRyNo8Urn6YVQqaIGYAisQGgXUUY77WrS8jfe9fKe35K0WMx_4nf-Qs" rel="nofollow noopener" style="color: var(--blue-link)\; cursor: pointer\; text-decoration-line: none\; outline: none\; list-style: none\; border-width: 0px\; border-style: initial\; border-color: initial\; padding: 0px\; margin: 0px\; touch-action: manipulation\; background-color: transparent\; text-align: inherit\; display: inline\; -webkit-tap-highlight-color: transparent\; box-sizing: border-box\; font-family: inherit\; animation-name: none !important\; transition-property: none !important\;" tabindex="0" target="_blank">https://russelllibrary.libcal.com/event/7879363</a></div>\n
LOCATION:Via Zoom and the Russell Library
UID:e.1932.22161
SEQUENCE:3
DTSTAMP:20260423T105416Z
URL:https://business.middlesexchamber.com/events/details/you-are-what-you-breathe-air-quality-and-lung-health-22161
END:VEVENT

END:VCALENDAR
