BEGIN:VCALENDAR
VERSION:2.0
PRODID:-//ChamberMaster//Event Calendar 2.0//EN
METHOD:PUBLISH
X-PUBLISHED-TTL:P3D
REFRESH-INTERVAL:P3D
CALSCALE:GREGORIAN
BEGIN:VEVENT
DTSTART:20200720T220000Z
DTEND:20200720T233000Z
X-MICROSOFT-CDO-ALLDAYEVENT:FALSE
SUMMARY:Writing Poems About Art
DESCRIPTION:The Art of Writing Poems about ArtSteven Ostrowski\, a published poet\, painter\, and professor\, will offer an online Zoom workshop in which participants engage in the art of writing poems about artworks. Using the "Permission to Play with Language" model that Professor Ostrowski developed for the Central Connecticut Writing Project\, participants will create new\, imagistic poems about an artwork or several artworks of their choice whether that be the well-known work of a famous artist\, the work of an unknown artist\, or the work of the participant themself. The goal of the workshop is to produce original poems that participants can be proud of and enjoy creating.\n\nDates: Monday\, July 13 and July 20th\n\nTime: 6:00 -7:30 pm\n\nCost: $80\n\nMembers save $8\n\nMembership starts at $45 per year and offers 10% discount on art instruction* as well as 10% off select Store items at the Gallery. *Does not apply to summer camps.
X-ALT-DESC;FMTTYPE=text/html:<p>&nbsp\;</p>\n\n<p>The Art of Writing Poems about ArtSteven Ostrowski\, a published poet\, painter\, and professor\, will offer an online Zoom workshop in which participants engage in the art of writing poems about artworks. Using the &ldquo\;Permission to Play with Language&rdquo\; model that Professor Ostrowski developed for the Central Connecticut Writing Project\, participants will create new\, imagistic poems about an artwork or several artworks of their choice&mdash\;whether that be the well-known work of a famous artist\, the work of an unknown artist\, or the work of the participant themself. The goal of the workshop is to produce original poems that participants can be proud of and enjoy creating.</p>\n\n<p>Dates: Monday\, July 13 and July 20th</p>\n\n<p>Time: 6:00 -7:30 pm</p>\n\n<p>Cost: $80</p>\n\n<p><strong>Members save $8</strong></p>\n\n<p><strong>Membership starts at $45 per year and offers 10% discount on art instruction* as well as 10% off select Store items at the Gallery.&nbsp\;<em>*Does not apply to summer camps.&nbsp\;</em></strong></p>\n
LOCATION:On line Zoom class
UID:e.1932.17958
SEQUENCE:3
DTSTAMP:20260425T212445Z
URL:https://business.middlesexchamber.com/events/details/writing-poems-about-art-07-20-2020-17958
END:VEVENT

END:VCALENDAR
