BEGIN:VCALENDAR
VERSION:2.0
PRODID:-//ChamberMaster//Event Calendar 2.0//EN
METHOD:PUBLISH
X-PUBLISHED-TTL:P3D
REFRESH-INTERVAL:P3D
CALSCALE:GREGORIAN
BEGIN:VEVENT
DTSTART:20200730T123000Z
DTEND:20200730T133000Z
X-MICROSOFT-CDO-ALLDAYEVENT:FALSE
SUMMARY:Women's Leadership Collaborative Network (WLCN) presents "How to Own the Room with Zoom - Part 1!"
DESCRIPTION:Please Note:  For security purposes\, when you register to attend this meeting\, a confirmation will be sent to you with a link to click on and then you will be asked for your name and email address\, after which you will receive the link to the meeting.\n\n \n\nProgram   "HOW TO OWN THE ROOM WITH ZOOM!   PART 1" \n\n	This is a two-part Webinar about using Zoom professionally and effectively! \n	In Part One\, Zoom basics will be covered\, such as how to setup a meeting\, send invites and edit meetings.  \n	Also included will be how to create a company-branded Zoom background!
X-ALT-DESC;FMTTYPE=text/html:<br />\n<em><strong><u><span style="color:red\;"><span style="font-family:arial\,sans-serif\;">Please Note</span></span></u></strong></em><em><strong><span style="font-family:arial\,sans-serif\;">:&nbsp\; For security purposes\, when you register to attend this meeting\, a confirmation will be sent to you with a link to&nbsp\;click on and then you will be asked for your name and email address\, after which you will receive the link to the meeting.</span></strong></em><br />\n&nbsp\;<br />\n<strong><span style="font-family:arial\,sans-serif\;">Program &ndash\; &ldquo\;HOW TO OWN THE ROOM WITH ZOOM! &ndash\; PART 1&rdquo\; </span></strong>\n<ul>\n	<li><span style="font-family:arial\,sans-serif\;">This is a two-part Webinar about using Zoom professionally and effectively! </span></li>\n	<li><span style="font-family:arial\,sans-serif\;">In Part One\, Zoom basics will be covered\, such as how to setup a meeting\, send invites and edit meetings.&nbsp\; </span></li>\n	<li><span style="font-family:arial\,sans-serif\;">Also included will be how to create a company-branded Zoom background!&nbsp\;</span></li>\n</ul>\n
LOCATION:Via Zoom
UID:e.1932.18178
SEQUENCE:3
DTSTAMP:20260425T213121Z
URL:https://business.middlesexchamber.com/events/details/women-s-leadership-collaborative-network-wlcn-presents-how-to-own-the-room-with-zoom-part-1-18178
END:VEVENT

END:VCALENDAR
