BEGIN:VCALENDAR
VERSION:2.0
PRODID:-//ChamberMaster//Event Calendar 2.0//EN
METHOD:PUBLISH
X-PUBLISHED-TTL:P3D
REFRESH-INTERVAL:P3D
CALSCALE:GREGORIAN
BEGIN:VEVENT
DTSTART:20200819T123000Z
DTEND:20200819T133000Z
X-MICROSOFT-CDO-ALLDAYEVENT:FALSE
SUMMARY:Women's Leadership Collaborative Network presents "How to Own the Room with Zoom: Part 2"
DESCRIPTION:?HOW TO OWN THE ROOM WITH ZOOM! ? PART 2?\n\nPresented by - Ellen Feldman Ornato & Jenny Drescher of The Bolder Company\n \n\n\n	You have mastered the technical basics of the virtual world\, our "new next" for the time being. The question is "How Do You Show Up Like a Pro Online?" \n\n \n\n\n	During this session\, we will cover Lighting\, Camera Angles and the Physical Aspects of Showing Up with Presence Online!\n\n \n\n\n	This cameras-on\, experiential session will infuse enthusiasm into your Zoom experience and ensure that you are not bored or boring anymore!
X-ALT-DESC;FMTTYPE=text/html:<h2><br>\n<span style="font-family:franklin gothic book\,sans-serif\;">?HOW TO OWN THE ROOM WITH ZOOM! ? PART 2?</span><br>\n<span style="font-family:franklin gothic book\,sans-serif\;">Presented by - Ellen Feldman Ornato &amp\; Jenny Drescher of The Bolder Company</span></h2>\n&nbsp\;\n\n<ul>\n	<li><span style="font-family:franklin gothic book\,sans-serif\;">You have mastered the technical basics of the virtual world\, our "new next" for the time being. The question is "How Do You Show Up Like a Pro Online?" </span></li>\n</ul>\n&nbsp\;\n\n<ul>\n	<li><span style="font-family:franklin gothic book\,sans-serif\;"><span style="font-family:franklin gothic book\,sans-serif\;">During this session\, we will cover Lighting\, Camera Angles and the Physical Aspects of Showing Up with Presence Online!</span></span></li>\n</ul>\n&nbsp\;\n\n<ul>\n	<li><span style="font-family:franklin gothic book\,sans-serif\;"><span style="font-family:franklin gothic book\,sans-serif\;"><span style="font-family:franklin gothic book\,sans-serif\;">This cameras-on\, experiential session will infuse enthusiasm into your Zoom experience and ensure that you are not bored or boring anymore!</span></span></span></li>\n</ul>\n
LOCATION:via Zoom
UID:e.1932.19118
SEQUENCE:3
DTSTAMP:20260425T225155Z
URL:https://business.middlesexchamber.com/events/details/women-s-leadership-collaborative-network-presents-how-to-own-the-room-with-zoom-part-2-19118
END:VEVENT

END:VCALENDAR
