BEGIN:VCALENDAR
VERSION:2.0
PRODID:-//ChamberMaster//Event Calendar 2.0//EN
METHOD:PUBLISH
X-PUBLISHED-TTL:P3D
REFRESH-INTERVAL:P3D
CALSCALE:GREGORIAN
BEGIN:VEVENT
DTSTART:20251126T133000Z
DTEND:20251126T143000Z
X-MICROSOFT-CDO-ALLDAYEVENT:FALSE
SUMMARY:Women's Leadership Collaborative
DESCRIPTION:The Women's Leadership Collaborative is the premier resource for women to engage in professional development programs to promote personal and professional growth. The goal is to unite a diverse mix of inspirational women leaders who empower women to achieve success.\n\n \n\nThis committee is a closed committee. If you would like more information on how you can get involved please contact Haley Stafford at haley@middlesexchamber.com.
X-ALT-DESC;FMTTYPE=text/html:The Women&rsquo\;s Leadership Collaborative is the premier resource for women to engage in professional development programs to promote personal and professional growth. The goal is to unite a diverse mix of inspirational women leaders who empower women to achieve success.<br />\n&nbsp\;<br />\nThis committee is a closed committee. If you would like more information on how you can get involved please contact Haley Stafford at haley@middlesexchamber.com.
LOCATION:Middlesex Chamber 318 High Street Middletown\, CT or join via Zoom
UID:e.1932.30469
SEQUENCE:3
DTSTAMP:20260424T202623Z
URL:https://business.middlesexchamber.com/events/details/women-s-leadership-collaborative-11-26-2025-30469
END:VEVENT

END:VCALENDAR
