BEGIN:VCALENDAR
VERSION:2.0
PRODID:-//ChamberMaster//Event Calendar 2.0//EN
METHOD:PUBLISH
X-PUBLISHED-TTL:P3D
REFRESH-INTERVAL:P3D
CALSCALE:GREGORIAN
BEGIN:VEVENT
DTSTART:20211123T133000Z
DTEND:20211123T143000Z
X-MICROSOFT-CDO-ALLDAYEVENT:FALSE
SUMMARY:Women's Leadership Collaborative
DESCRIPTION:The Women's Leadership Collaborative presented by Citizens Bank is the premier resource for women to engage in professional development programs to promote personal and professional growth. Their goal is to unite a diverse mix of inspirational women leaders who empower women to achieve success. Led by Chairwoman Barbara Taylor-Hatje\, the collaborative presents activities throughout the year including a Women's Leadership Conference\, an Author Luncheon\, a mentor program titled "Elevate Women" Mentoring for Women by Women\, and many other engaging events and activities.
X-ALT-DESC;FMTTYPE=text/html:The Women&rsquo\;s Leadership Collaborative presented by Citizens Bank is the premier resource for women to engage in professional development programs to promote personal and professional growth. Their goal is to unite a diverse mix of inspirational women leaders who empower women to achieve success. Led by Chairwoman Barbara Taylor-Hatje\, the collaborative presents activities throughout the year including a Women&#39\;s Leadership Conference\, an Author Luncheon\, a mentor program titled &ldquo\;Elevate Women&rdquo\; Mentoring for Women by Women\, and many other engaging events and activities.
LOCATION:Meeting held via Zoom
UID:e.1932.20934
SEQUENCE:3
DTSTAMP:20260421T083935Z
URL:https://business.middlesexchamber.com/events/details/women-s-leadership-collaborative-11-24-2021-20934
END:VEVENT

END:VCALENDAR
