BEGIN:VCALENDAR
VERSION:2.0
PRODID:-//ChamberMaster//Event Calendar 2.0//EN
METHOD:PUBLISH
X-PUBLISHED-TTL:P3D
REFRESH-INTERVAL:P3D
CALSCALE:GREGORIAN
BEGIN:VEVENT
DTSTART:20251202T133000Z
DTEND:20251202T143000Z
X-MICROSOFT-CDO-ALLDAYEVENT:FALSE
SUMMARY:Women's Business Network Steering Committee
DESCRIPTION:This is a closed committee. Please contact Haley Stafford for more information.
X-ALT-DESC;FMTTYPE=text/html:This is a closed committee. Please contact Haley Stafford for more information.&nbsp\;
LOCATION:Meeting held via Zoom
UID:e.1932.30261
SEQUENCE:3
DTSTAMP:20260424T192252Z
URL:https://business.middlesexchamber.com/events/details/women-s-business-network-steering-committee-12-02-2025-30261
END:VEVENT

END:VCALENDAR
