BEGIN:VCALENDAR
VERSION:2.0
PRODID:-//ChamberMaster//Event Calendar 2.0//EN
METHOD:PUBLISH
X-PUBLISHED-TTL:P3D
REFRESH-INTERVAL:P3D
CALSCALE:GREGORIAN
BEGIN:VEVENT
DTSTART:20211211T210000Z
DTEND:20211211T223000Z
X-MICROSOFT-CDO-ALLDAYEVENT:FALSE
SUMMARY:Winter Follies
DESCRIPTION:The Dance Corner\, of Killingworth\, CT\, presents its thirteenth annual performance of The Winter Follies: A Celebration of the Season Through Song and Dance.\n\n\n\nThe performance is Saturday\, December 11th at 4:00 pm at the Andrews Memorial Town Hall Auditorium on East Main Street in Clinton\, CT.\n\n\n\nThe cost of admission is $10.00 per person however\; we encourage all attendees to bring a new\, unwrapped toy to benefit the Madison Youth and Family Services and Yale New Haven Children's Hospital. Admission price with a new\, unwrapped toy is FREE. General admission tickets are available at door.\n\n\n\nThe program is about 70-80 minutes long and suitable for adults and children of all ages. Masks are required to be worn by everyone age 3 and up inside the Town Hall.\n\n\n\nPlease call The Dance Corner at (860) 663-3738 for more information or visit www.TheDanceCorner.com.
X-ALT-DESC;FMTTYPE=text/html:The Dance Corner\, of Killingworth\, CT\, presents its thirteenth annual performance of The Winter Follies: A Celebration of the Season Through Song and Dance.<br />\n<br />\nThe performance is Saturday\, December 11th at 4:00 pm at the Andrews Memorial Town Hall Auditorium on East Main Street in Clinton\, CT.<br />\n<br />\nThe cost of admission is $10.00 per person however\; we encourage all attendees to bring a new\, unwrapped toy to benefit the Madison Youth and Family Services and Yale New Haven Children&rsquo\;s Hospital. Admission price with a new\, unwrapped toy is FREE. General admission tickets are available at door.<br />\n<br />\nThe program is about 70-80 minutes long and suitable for adults and children of all ages. Masks are required to be worn by everyone age 3 and up inside the Town Hall.<br />\n<br />\nPlease call The Dance Corner at (860) 663-3738 for more information or visit www.TheDanceCorner.com.
LOCATION:Andrews Memorial Town Hall Auditorium 54 East Main Street Clinton\, CT 06413
UID:e.1932.22384
SEQUENCE:3
DTSTAMP:20260421T083625Z
URL:https://business.middlesexchamber.com/events/details/winter-follies-22384
END:VEVENT

END:VCALENDAR
