BEGIN:VCALENDAR
VERSION:2.0
PRODID:-//ChamberMaster//Event Calendar 2.0//EN
METHOD:PUBLISH
X-PUBLISHED-TTL:P3D
REFRESH-INTERVAL:P3D
CALSCALE:GREGORIAN
BEGIN:VEVENT
DTSTART:20230119T231500Z
DTEND:20230120T004500Z
X-MICROSOFT-CDO-ALLDAYEVENT:FALSE
SUMMARY:Winter Book Club
DESCRIPTION:Join me in an exploration of the book\, "You are a BADASS.  How to Stop Doubting Your Greatness and Start Living an Awesome Life." \n\nTaken from the book:"You Are a Badass will help you: Identify and change the self-sabotaging beliefs and behaviors that stop you from getting what you want\, blast past your fears so you can take big exciting risks\, figure out how to make some damn money already\, learn to love yourself and others\, set big goals and reach them - it will basically show you how to create a life you totally love\, and how to create it now."\n\nBy the end of You Are a Badass\, you'll understand why you are how you are\, how to love what you can't change\, how to change what you don't love\, and how to use The Force to kick some serious ass.\n\nWe will meet every 2-4 weeks and discuss 2-3 chapters each meeting.  Pay a ONE TIME membership fee of $30 for the duration of this book until the next book is started by the group.  Meetings will be offered both in-person and online due to driving distance\, bad weather conditions and other circumstances that may arise.  Any session that gets moved to online\, participants will be notified that morning in advance.  We will set our future meeting dates after this very first session.  \n\nBooks may be purchased on Amazon or wherever/however you prefer.  Paperback is $8.45\, Hardcover is $15.23\, and audiobook is $0 with a paid membership through Amazon.
X-ALT-DESC;FMTTYPE=text/html:<p>Join me in an exploration of the book\, &quot\;You are a BADASS. &nbsp\;How to Stop Doubting Your Greatness and Start Living an Awesome Life.&quot\;&nbsp\;</p>\n\n<p>Taken from the book:&quot\;<em>You Are a Badass</em>&nbsp\;will help you: Identify and change the self-sabotaging beliefs and behaviors that stop you from getting what you want\, blast past your fears so you can take big exciting risks\, figure out how to make some damn money already\, learn to love yourself and others\, set big goals and reach them - it will basically show you how to create a life you totally love\, and how to create it&nbsp\;<em>now</em>.&quot\;</p>\n\n<p>By the end of&nbsp\;<em>You Are a Badass</em>\, you&#39\;ll understand why you are how you are\, how to love what you can&#39\;t change\, how to change what you don&#39\;t love\, and how to use The Force to kick some serious ass.</p>\n\n<p>We will meet every 2-4 weeks and discuss 2-3 chapters each meeting. &nbsp\;Pay a&nbsp\;<u><strong>ONE TIME</strong></u>&nbsp\;membership fee of $30 for the duration of this book until the next book is started by the group. &nbsp\;Meetings will be offered both in-person and online due to driving distance\, bad weather conditions and other circumstances that may arise. &nbsp\;Any session that gets moved to online\, participants will be notified that morning in advance. &nbsp\;We will set our future meeting dates after this very first session. &nbsp\;</p>\n\n<p>Books may be purchased on Amazon or wherever/however you prefer. &nbsp\;Paperback is $8.45\, Hardcover is $15.23\, and audiobook is $0 with a paid membership through Amazon.&nbsp\;&nbsp\;</p>\n
LOCATION:Worthy Changes LLC 45 Evans Rd - 2nd floor Rocky Hill\, CT
UID:e.1932.24516
SEQUENCE:3
DTSTAMP:20260420T192441Z
URL:https://business.middlesexchamber.com/events/details/winter-book-club-24516
END:VEVENT

END:VCALENDAR
