BEGIN:VCALENDAR
VERSION:2.0
PRODID:-//ChamberMaster//Event Calendar 2.0//EN
METHOD:PUBLISH
X-PUBLISHED-TTL:P3D
REFRESH-INTERVAL:P3D
CALSCALE:GREGORIAN
BEGIN:VEVENT
DTSTART:20251204T230000Z
DTEND:20251205T020000Z
X-MICROSOFT-CDO-ALLDAYEVENT:FALSE
SUMMARY:Whiskey & Wings at Saybrook Point Resort & Marina
DESCRIPTION:December 4th\, 6pm-9pm.  Indulge in the ultimate pairing of bold flavors and smooth sips.  \n\n\n\nExpertly crafted by our culinary team\, choose from a variety of wing flavors to satisfy every craving\, and a sampling of select premium whiskeys.\n\n\n\nLive Music Performance by the Saltwater Sons.\n\n\n\nReservations Required: Call (860)388-1111
X-ALT-DESC;FMTTYPE=text/html:<span style="font-size:18px\;">December 4th\, 6pm-9pm.&nbsp\; Indulge in the ultimate pairing of bold flavors and smooth sips.&nbsp\;&nbsp\;<br />\n<br />\nExpertly crafted by our culinary team\, choose from a variety of wing flavors to satisfy every craving\, and a sampling of select premium whiskeys.<br />\n<br />\nLive Music Performance by the<em> Saltwater Sons.</em><br />\n<br />\nReservations Required: Call (860)388-1111</span>
LOCATION:Saybrook Point Resort & Marina 2 Bridge Street Old Saybrook\, CT. 06475
UID:e.1932.34589
SEQUENCE:3
DTSTAMP:20260424T192252Z
URL:https://business.middlesexchamber.com/events/details/whiskey-wings-at-saybrook-point-resort-marina-12-04-2025-34589
END:VEVENT

END:VCALENDAR
