BEGIN:VCALENDAR
VERSION:2.0
PRODID:-//ChamberMaster//Event Calendar 2.0//EN
METHOD:PUBLISH
X-PUBLISHED-TTL:P3D
REFRESH-INTERVAL:P3D
CALSCALE:GREGORIAN
BEGIN:VEVENT
DTSTART;VALUE=DATE:20171006
DTEND;VALUE=DATE:20171009
TRANSP:TRANSPARENT
X-MICROSOFT-CDO-ALLDAYEVENT:TRUE
SUMMARY:Westfield Community Carnival
DESCRIPTION:A new Fall Carnival\, Arts and Craft Festival\, and Food Fair is coming to the Westfield area of Middletown the weekend of October 6\,7\, 8.\n\n\n\nThis community event will have something for the whole family\, including rides\, games\, magic acts\, and a great line up of live musical entertainment.\n\n\n\nParking is close and convenient. Admission is Free\, and the Fun will be non-stop!
X-ALT-DESC;FMTTYPE=text/html:A new Fall Carnival\, Arts and Craft Festival\, and Food Fair is coming to the Westfield area of Middletown the weekend of October 6\,7\, 8.<br />\n<br />\nThis community event will have something for the whole family\, including rides\, games\, magic acts\, and a great line up of live musical entertainment.<br />\n<br />\nParking is close and convenient. Admission is Free\, and the Fun will be non-stop!&nbsp\;
LOCATION:94 Miner Street Middletown\, CT
UID:e.1932.4692
SEQUENCE:3
DTSTAMP:20260424T000336Z
URL:https://business.middlesexchamber.com/events/details/westfield-community-carnival-10-06-2017-4692
END:VEVENT

END:VCALENDAR
