BEGIN:VCALENDAR
VERSION:2.0
PRODID:-//ChamberMaster//Event Calendar 2.0//EN
METHOD:PUBLISH
X-PUBLISHED-TTL:P3D
REFRESH-INTERVAL:P3D
CALSCALE:GREGORIAN
BEGIN:VEVENT
DTSTART:20210814T140000Z
DTEND:20210814T190000Z
X-MICROSOFT-CDO-ALLDAYEVENT:FALSE
SUMMARY:Westbrook Outdoor Marketplace
DESCRIPTION:Our Westbrook Outdoor Marketplace is a monthly series of markets featuring local businesses\, crafters & artisans. These are held on the second Saturday of each month. \n\nJoin us at our upcoming outdoor markets from 10 am - 3 pm for a wide variety of great products including art\, jewelry\, food\, apparel\, and much more! Shop great local businesses as they join our national brands for one unique shopping experience!\n\n\n\nHeld in our back lower parking lot between the mall office & movie theater
X-ALT-DESC;FMTTYPE=text/html:<p>Our Westbrook Outdoor Marketplace is a monthly series of markets featuring local businesses\, crafters &amp\; artisans. These are held on the second Saturday of each month.&nbsp\;</p>\n\n<p>Join us at our upcoming outdoor markets from 10&nbsp\;am - 3&nbsp\;pm for a wide variety of great products including art\, jewelry\, food\, apparel\, and much more! Shop great local businesses as they join our national brands for one unique shopping experience!<br />\n<br />\nHeld in our back lower parking lot between the mall office &amp\; movie theater</p>\n
LOCATION:Westbrook Outlets 314 Flat Rock Place\, Westbrook\, CT Exit 65 off I-95
UID:e.1932.21703
SEQUENCE:3
DTSTAMP:20260423T121406Z
URL:https://business.middlesexchamber.com/events/details/westbrook-outdoor-marketplace-08-14-2021-21703
END:VEVENT

END:VCALENDAR
