BEGIN:VCALENDAR
VERSION:2.0
PRODID:-//ChamberMaster//Event Calendar 2.0//EN
METHOD:PUBLISH
X-PUBLISHED-TTL:P3D
REFRESH-INTERVAL:P3D
CALSCALE:GREGORIAN
BEGIN:VEVENT
DTSTART:20181023T120000Z
DTEND:20181023T130000Z
X-MICROSOFT-CDO-ALLDAYEVENT:FALSE
SUMMARY:Westbrook Division
DESCRIPTION:Program: Candidates for Legislative Office
X-ALT-DESC;FMTTYPE=text/html:<br />\nProgram: Candidates for Legislative Office&nbsp\;
LOCATION:Vista Life Innovations 1356 Old Clinton Road Westbrook\, CT
UID:e.1932.7755
SEQUENCE:3
DTSTAMP:20260421T094905Z
URL:https://business.middlesexchamber.com/events/details/westbrook-division-7755
END:VEVENT

END:VCALENDAR
