BEGIN:VCALENDAR
VERSION:2.0
PRODID:-//ChamberMaster//Event Calendar 2.0//EN
METHOD:PUBLISH
X-PUBLISHED-TTL:P3D
REFRESH-INTERVAL:P3D
CALSCALE:GREGORIAN
BEGIN:VEVENT
DTSTART:20171128T130000Z
DTEND:20171128T140000Z
X-MICROSOFT-CDO-ALLDAYEVENT:FALSE
SUMMARY:Westbrook Division
DESCRIPTION:Program: Superintendent of Schools update
X-ALT-DESC;FMTTYPE=text/html:<br />\nProgram: Superintendent of Schools update
LOCATION:Westbrook High School Library 156 McVeagh Road Westbrook\, CT
UID:e.1932.4520
SEQUENCE:3
DTSTAMP:20260423T012846Z
URL:https://business.middlesexchamber.com/events/details/westbrook-division-4520
END:VEVENT

END:VCALENDAR
