BEGIN:VCALENDAR
VERSION:2.0
PRODID:-//ChamberMaster//Event Calendar 2.0//EN
METHOD:PUBLISH
X-PUBLISHED-TTL:P3D
REFRESH-INTERVAL:P3D
CALSCALE:GREGORIAN
BEGIN:VEVENT
DTSTART:20251028T120000Z
DTEND:20251028T130000Z
X-MICROSOFT-CDO-ALLDAYEVENT:FALSE
SUMMARY:Westbrook Division
DESCRIPTION:Are you and your staff taking advantage of your Chamber membership?  Would you like a refresher on the benefits of being a Chamber member? \n\n\n\nJoin us on Tuesday\, October 28th and hear from Membership Director\, Joe Santaniello\, on how you and your staff can realize the full value of your membership. Joe will share updates on events and networking gatherings\, marketing and outreach opportunities\, and new ways that the Chamber can help you make connections and grow your business. \n\n\n\nOur thanks to the First Selectman's office for hosting the meeting!
X-ALT-DESC;FMTTYPE=text/html:<p>Are you and your staff taking advantage of your Chamber membership?&nbsp\; Would you like a refresher on the benefits of being a Chamber member?&nbsp\;<br />\n<br />\nJoin us on Tuesday\, October 28th and hear from Membership Director\, Joe Santaniello\, on how you and your staff can realize the full value of your membership. Joe will share updates on events and networking gatherings\, marketing and outreach opportunities\, and new ways that the Chamber can help you make connections and grow your business.&nbsp\;<br />\n<br />\nOur thanks to the First Selectman&#39\;s office for hosting the meeting!&nbsp\;</p>\n
LOCATION:Westbrook Town Hall 866 Boston Post Road\, Westbrook
UID:e.1932.30368
SEQUENCE:3
DTSTAMP:20260424T213240Z
URL:https://business.middlesexchamber.com/events/details/westbrook-division-10-28-2025-30368
END:VEVENT

END:VCALENDAR
