BEGIN:VCALENDAR
VERSION:2.0
PRODID:-//ChamberMaster//Event Calendar 2.0//EN
METHOD:PUBLISH
X-PUBLISHED-TTL:P3D
REFRESH-INTERVAL:P3D
CALSCALE:GREGORIAN
BEGIN:VEVENT
DTSTART:20250906T200000Z
DTEND:20250906T220000Z
X-MICROSOFT-CDO-ALLDAYEVENT:FALSE
SUMMARY:Wesleyan Potters in Middletown presents “No Boundaries” – Opening Reception
DESCRIPTION:Wesleyan Potters presents "No Boundaries"   Opening Reception\n\nJoin us on Saturday\, September 6\, from 4:00 6:00 pm for the opening night of No Boundaries\, a new exhibition at Wesleyan Potters.\n\n\n\nThis special event highlights the work of three accomplished ceramic artists   Cricket Carufe\, Paula Dennen\, and Pat Gatzke   whose unique approaches showcase the expressive possibilities of clay.\n\nIn addition to their featured pieces\, guests are invited to explore a wide selection of other fine craft works on display in the Gallery.\n\n\n\nLight refreshments will be served\, and all are welcome. The show will continue through September 28
X-ALT-DESC;FMTTYPE=text/html:<p><span style="font-size:18px\;"><strong>Wesleyan Potters presents &ldquo\;No Boundaries&rdquo\; &ndash\; Opening Reception</strong></span></p>\n\n<p><span style="font-size:18px\;">Join us on <strong>Saturday\, September 6</strong>\, from <strong>4:00&ndash\;6:00 pm</strong> for the opening night of <em>No Boundaries</em>\, a new exhibition at Wesleyan Potters.<br />\n<br />\nThis special event highlights the work of three accomplished ceramic artists &mdash\; <strong>Cricket Carufe</strong>\, <strong>Paula Dennen</strong>\, and <strong>Pat Gatzke</strong> &mdash\; whose unique approaches showcase the expressive possibilities of clay.</span></p>\n\n<p><span style="font-size:18px\;">In addition to their featured pieces\, guests are invited to explore a wide selection of other fine craft works on display in the Gallery.<br />\n<br />\n<strong>Light refreshments will be served</strong>\, and all are welcome. The show will continue through September 28</span></p>\n
LOCATION:Wesleyan Potters 350 South Main Street Middletown\, Connecticut 06457
UID:e.1932.33556
SEQUENCE:3
DTSTAMP:20260424T224443Z
URL:https://business.middlesexchamber.com/events/details/wesleyan-potters-in-middletown-presents-no-boundaries-opening-reception-33556
END:VEVENT

END:VCALENDAR
