BEGIN:VCALENDAR
VERSION:2.0
PRODID:-//ChamberMaster//Event Calendar 2.0//EN
METHOD:PUBLISH
X-PUBLISHED-TTL:P3D
REFRESH-INTERVAL:P3D
CALSCALE:GREGORIAN
BEGIN:VEVENT
DTSTART:20251224T150000Z
DTEND:20251224T230000Z
X-MICROSOFT-CDO-ALLDAYEVENT:FALSE
SUMMARY:Wesleyan Potters Annual Holiday Sale
DESCRIPTION:Come experience the beauty of artistry and craft through exquisite handmade works in pottery\, jewelry\, wood\, stone\, glass\, and fiber... each a reflection of the skill and imagination of local artists.\n\n\n\nOpen daily 10:00am to 6:00pm\, Black Friday through Christmas Eve.\n\n\n\nAdditional free parking located in the rear - accessible from Birdsey Avenue.\n\n\n\nBring a friend!
X-ALT-DESC;FMTTYPE=text/html:<span style="font-size:18px\;"><span style="color: rgb(8\, 8\, 9)\;">Come experience the beauty of artistry and craft through exquisite handmade works in pottery\, jewelry\, wood\, stone\, glass\, and fiber... each a reflection of the skill and imagination of local artists.<br />\n<br />\nOpen daily 10:00am to 6:00pm\, Black Friday through Christmas Eve.<br />\n<br />\nAdditional free parking located in the rear - accessible from Birdsey Avenue.<br />\n<br />\nBring a friend!</span></span>
LOCATION:Wesleyan Potters 350 South Main Street Middletown\, CT 06457
UID:e.1932.34580
SEQUENCE:3
DTSTAMP:20260424T195300Z
URL:https://business.middlesexchamber.com/events/details/wesleyan-potters-annual-holiday-sale-12-24-2025-34580
END:VEVENT

END:VCALENDAR
