BEGIN:VCALENDAR
VERSION:2.0
PRODID:-//ChamberMaster//Event Calendar 2.0//EN
METHOD:PUBLISH
X-PUBLISHED-TTL:P3D
REFRESH-INTERVAL:P3D
CALSCALE:GREGORIAN
BEGIN:VEVENT
DTSTART:20240509T213000Z
DTEND:20240509T223000Z
X-MICROSOFT-CDO-ALLDAYEVENT:FALSE
SUMMARY:Welcome Home! Learn About Homeownership at Chelsea Groton Bank
DESCRIPTION:Is homeownership in your future?\n\n\nJoin us to learn the positives and negatives of owning a home\, available mortgage options and financing considerations\, the steps and documentation needed during each step of the homebuying process\, and how to qualify for a mortgage and get your credit mortgage-ready.
X-ALT-DESC;FMTTYPE=text/html:<div style="text-align: center\;"><span style="font-size:18px\;"><span style="font-family:arial\;"><span style="color: rgb(0\, 0\, 0)\;">Is homeownership in your future?</span></span></span></div>\n<br />\n<span style="font-size:18px\;"><span style="font-family:arial\;"><span style="color: rgb(0\, 0\, 0)\;">Join us to learn the positives and negatives of owning a home\, available mortgage options and financing considerations\, the steps and documentation needed during each step of the homebuying process\, and how to qualify for a mortgage and get your credit mortgage-ready.</span></span></span>
LOCATION:Chelsea Groton Bank North Stonington Branch 391 Norwich Westerly Road North Stonington\, CT
UID:e.1932.29270
SEQUENCE:3
DTSTAMP:20260419T202749Z
URL:https://business.middlesexchamber.com/events/details/welcome-home-learn-about-homeownership-at-chelsea-groton-bank-29270
END:VEVENT

END:VCALENDAR
