BEGIN:VCALENDAR
VERSION:2.0
PRODID:-//ChamberMaster//Event Calendar 2.0//EN
METHOD:PUBLISH
X-PUBLISHED-TTL:P3D
REFRESH-INTERVAL:P3D
CALSCALE:GREGORIAN
BEGIN:VEVENT
DTSTART:20240402T140000Z
DTEND:20240402T150000Z
X-MICROSOFT-CDO-ALLDAYEVENT:FALSE
SUMMARY:Webinar on New CT DEEP Initiatives
DESCRIPTION:A clean and healthy environment   with access to cleaner\, more affordable energy   is the foundation for a thriving economy. Our success\, and our collaboration with partners like our chambers of commerce\, contribute directly to a better quality of life for CT's residents and businesses and create a competitive advantage for our state.\n\n \n\nWe would like to invite you to participate in an upcoming live webinar specifically for Connecticut's chambers of commerce to learn about our new 20BY26 initiative   a fresh set of performance goals that DEEP will strive to meet by the end of 2026   and a variety of exciting efforts we are undertaking across the agency\, including:\n\n \n\n  Development of modernized and more efficient clean-up regulations.\n\n  Improving permit processing and amplifying concierge services to better support permit applicants\, businesses\, and municipalities. \n\n  Pursuing significant clean energy investments and incentives.\n\n  Launching our Partnership in Parks RFI to elevate the outdoor recreation experience in our state parks and support tourism in Connecticut.  \n\n \n\nThe webinar will be held on Tuesday\, April 2\, 2024\, from 10:00 a.m. - 11:00 a.m. and is open to members and staff of Connecticut's chambers of commerce.  To register\, please go to the following link: https://ctdeep.zoom.us/webinar/register/WN_M9ZBXyRbT8yvUPYZj3eLhw\n\n \n\nIf you have any questions\, please do not hesitate to reach out to us at DEEP.20BY26@ct.gov.
X-ALT-DESC;FMTTYPE=text/html:<div>A clean and healthy environment &ndash\; with access to cleaner\, more affordable energy &ndash\; is the foundation for a thriving economy. Our success\, and our collaboration with partners like our chambers of commerce\, contribute directly to a better quality of life for CT&rsquo\;s residents and businesses and create a competitive advantage for our state.</div>\n\n<div>&nbsp\;</div>\n\n<div>We would like to invite you to participate in an upcoming live webinar specifically for Connecticut&#39\;s chambers of commerce to learn about our new 20BY26 initiative &ndash\; a fresh set of performance goals that DEEP will strive to meet by the end of 2026 &ndash\; and a variety of exciting efforts we are undertaking across the agency\, including:</div>\n\n<div>&nbsp\;</div>\n\n<div>&bull\;<span style="white-space:pre"> </span>Development of modernized and more efficient clean-up regulations.</div>\n\n<div>&bull\;<span style="white-space:pre"> </span>Improving permit processing and amplifying concierge services to better support permit applicants\, businesses\, and municipalities.&nbsp\;</div>\n\n<div>&bull\;<span style="white-space:pre"> </span>Pursuing significant clean energy investments and incentives.</div>\n\n<div>&bull\;<span style="white-space:pre"> </span>Launching our Partnership in Parks RFI to elevate the outdoor recreation experience in our state parks and support tourism in Connecticut.&nbsp\;&nbsp\;</div>\n\n<div>&nbsp\;</div>\n\n<div>The webinar will be held on Tuesday\, April 2\, 2024\, from 10:00 a.m. - 11:00 a.m. and is open to members and staff of Connecticut&#39\;s chambers of commerce.&nbsp\; To register\, please go to the following link: <a href="https://ctdeep.zoom.us/webinar/register/WN_M9ZBXyRbT8yvUPYZj3eLhw">https://ctdeep.zoom.us/webinar/register/WN_M9ZBXyRbT8yvUPYZj3eLhw</a></div>\n\n<div>&nbsp\;</div>\n\n<div>If you have any questions\, please do not hesitate to reach out to us at <a href="mailto:DEEP.20BY26@ct.gov">DEEP.20BY26@ct.gov</a>.&nbsp\;</div>\n
LOCATION:
UID:e.1932.29174
SEQUENCE:3
DTSTAMP:20260419T233235Z
URL:https://business.middlesexchamber.com/events/details/webinar-on-new-ct-deep-initiatives-29174
END:VEVENT

END:VCALENDAR
