BEGIN:VCALENDAR
VERSION:2.0
PRODID:-//ChamberMaster//Event Calendar 2.0//EN
METHOD:PUBLISH
X-PUBLISHED-TTL:P3D
REFRESH-INTERVAL:P3D
CALSCALE:GREGORIAN
BEGIN:VEVENT
DTSTART:20171105T000000Z
DTEND:20171105T020000Z
X-MICROSOFT-CDO-ALLDAYEVENT:FALSE
SUMMARY:Washboard Slim & The Bluelights
DESCRIPTION:Washboard Slim and the Bluelights have been performing their blues\, jugband\, early jazz and rockabilly mix throughout the United States for over twenty five years. Don't miss the opportunity to see the group that legendary folk artist Eric Von Schmidt called: "The best since Kweskin's Jug Band in the sixties."
X-ALT-DESC;FMTTYPE=text/html:<span style="color:rgb(68\, 68\, 68)\; font-family:open sans\,sans-serif\; font-size:15px">Washboard Slim and the Bluelights have been performing their blues\, jugband\, early jazz and rockabilly mix throughout&nbsp\;the United States for over twenty five years. Don&rsquo\;t miss the opportunity to see the group that legendary folk artist Eric Von Schmidt called: &ldquo\;The best since Kweskin&rsquo\;s Jug Band in the sixties.&rdquo\;</span>
LOCATION:The Buttonwood Tree 605 Main Street Middletown
UID:e.1932.4730
SEQUENCE:3
DTSTAMP:20260422T220505Z
URL:https://business.middlesexchamber.com/events/details/washboard-slim-the-bluelights-4730
END:VEVENT

END:VCALENDAR
