BEGIN:VCALENDAR
VERSION:2.0
PRODID:-//ChamberMaster//Event Calendar 2.0//EN
METHOD:PUBLISH
X-PUBLISHED-TTL:P3D
REFRESH-INTERVAL:P3D
CALSCALE:GREGORIAN
BEGIN:VEVENT
DTSTART:20230211T190000Z
DTEND:20230211T210000Z
X-MICROSOFT-CDO-ALLDAYEVENT:FALSE
SUMMARY:Wall Art Terrarium Class
DESCRIPTION:Are you an avid plant lover?  Or\,  are you the type of person who requires a plant that is low maintenance because you do not have a green thumb?\n\n \n\nJoin us in creating your own relaxing tranquility garden to adore for days to come.  Each terrarium created is unique to you\, your vibe\, and very low maintenance.  Be as creative as you like.  Use the plants to take away the negative vibes of others.  \n\n \n\nLight snacks and refreshments will be provided at this event.
X-ALT-DESC;FMTTYPE=text/html:<p>Are you an avid plant lover? &nbsp\;Or\, &nbsp\;are you the type of person who requires a plant that is low maintenance because you do not have a green thumb?</p>\n\n<p>&nbsp\;</p>\n\n<p>Join us in creating your own relaxing tranquility garden to adore for days to come. &nbsp\;Each terrarium created is unique to you\, your vibe\, and very low maintenance. &nbsp\;Be as creative as you like. &nbsp\;Use the plants to take away the negative vibes of others. &nbsp\;</p>\n\n<p>&nbsp\;</p>\n\n<p>Light snacks and refreshments will be provided at this event.</p>\n
LOCATION:Worthy Changes 45 Evans Road - 2nd Floor Rocky Hill\, CT
UID:e.1932.24740
SEQUENCE:3
DTSTAMP:20260420T181206Z
URL:https://business.middlesexchamber.com/events/details/wall-art-terrarium-class-24740
END:VEVENT

END:VCALENDAR
