BEGIN:VCALENDAR
VERSION:2.0
PRODID:-//ChamberMaster//Event Calendar 2.0//EN
METHOD:PUBLISH
X-PUBLISHED-TTL:P3D
REFRESH-INTERVAL:P3D
CALSCALE:GREGORIAN
BEGIN:VEVENT
DTSTART:20230513T130000Z
DTEND:20230513T170000Z
X-MICROSOFT-CDO-ALLDAYEVENT:FALSE
SUMMARY:Walk to End Epilepsy Stamford Location
DESCRIPTION:Join us to hear personal stories from people affected by epilepsy\n\nWalk to raise awareness\n\nEnjoy music & free food!
X-ALT-DESC;FMTTYPE=text/html:<div style="text-align: center\;"><strong><span style="font-size:20px\;"><span style="font-family:arial\;">Join us to hear personal stories from people affected by epilepsy<br />\nWalk to raise awareness<br />\nEnjoy music &amp\; free food!</span></span></strong></div>\n
LOCATION:1241 Cove Road Stamford\, CT 06902
UID:e.1932.25221
SEQUENCE:3
DTSTAMP:20260420T153048Z
URL:https://business.middlesexchamber.com/events/details/walk-to-end-epilepsy-stamford-location-25221
END:VEVENT

END:VCALENDAR
