BEGIN:VCALENDAR
VERSION:2.0
PRODID:-//ChamberMaster//Event Calendar 2.0//EN
METHOD:PUBLISH
X-PUBLISHED-TTL:P3D
REFRESH-INTERVAL:P3D
CALSCALE:GREGORIAN
BEGIN:VEVENT
DTSTART:20230429T220000Z
DTEND:20230430T020000Z
X-MICROSOFT-CDO-ALLDAYEVENT:FALSE
SUMMARY:Vista's Starlight Benefit 2023
DESCRIPTION:Vista Life Innovations invites you to boldly go to a galaxy not so far away! Our annual Starlight Benefit spring fundraiser and social event beams up on April 29 at Water's Edge Resort and Spa in Westbrook. To celebrate the return of this spirited evening as an in-person event\, this year's theme is Vista Showdown: Your Galaxy Awaits. \n\n\n\nThis is the way: collect your family and friends for an out-of-this world evening of cocktails and dinner\, live and silent auctions\, and live entertainment. Show off your inner geek\, whether the force is with you\, or you live long and prosper.\n\n\n\nVista is proud to announce this year's honoree: Lauren Thierry\, a star in the media autism advocacy world. Ms. Thierry is the founder of Independence Day/ID\, a GPS tech and fashion convergence designed to address a myriad of safety and dressing issues for the special needs population. A TV news anchor for more than a decade\; she left her anchor job at CNN Financial to care for her autistic son\, Liam. Ms. Thierry was cited by Connecticut Magazine as "one the state's most stand up citizens" in the magazine's "Standing Up for Connecticut" issue.\n\n \n\nThe Starlight Benefit's net proceeds support the many programs and services offered by Vista Life Innovations\, Inc. a non-profit organization based along the Connecticut shoreline that provides services and resources to assist individuals with disabilities to achieve personal success.\n\nTickets and event sponsorship opportunities are available at www.vistalifeinnovations.org/starlight. For more information\, please contact Lori Cartwright\, Manager of Organizational Development\, at 860-399-8080 ext. 268 or lcartwright@vistalifeinnovations.org.
X-ALT-DESC;FMTTYPE=text/html:<span style="color:black"><span style="font-family:open sans\,sans-serif"><span style="font-size:12.0pt">Vista Life Innovations invites you to boldly go to a galaxy&hellip\;not so far away! Our annual Starlight Benefit spring fundraiser and social event beams up on April 29 at Water&rsquo\;s Edge Resort and Spa in Westbrook. To celebrate the return of this spirited evening as an in-person event\, this year&rsquo\;s theme is <strong><em>Vista Showdown: Your Galaxy Awaits. </em></strong></span></span></span><br />\n<br />\n<span style="font-family:open sans\,sans-serif"><span style="font-size:12.0pt">This is the way: collect your family and friends for an out-of-this world evening of cocktails and dinner\, live and silent auctions\, and live entertainment. Show off your inner geek\, whether the force is with you\, or you live long and prosper.</span></span><br />\n<br />\n<span style="color:windowtext"><span style="font-family:open sans\,sans-serif">Vista is proud to announce this year&rsquo\;s honoree: </span></span><strong><span style="font-family:open sans\,sans-serif">Lauren Thierry\, </span></strong><span style="font-family:open sans\,sans-serif">a star in the media autism advocacy world. Ms. Thierry is the founder of Independence Day/ID\, a GPS tech and fashion convergence designed to address a myriad of safety and dressing issues for the special needs population. </span><span style="color:#1C1C1C"><span style="font-family:open sans\,sans-serif">A TV news anchor for more than a decade</span></span><span style="color:#3F3F3F"><span style="font-family:open sans\,sans-serif">\; </span></span><span style="color:#1C1C1C"><span style="font-family:open sans\,sans-serif">she left her anchor job at CNN Financial to care for her autistic son\, Liam</span></span><span style="color:#535353"><span style="font-family:open sans\,sans-serif">. </span></span><span style="font-family:open sans\,sans-serif">Ms. Thierry</span> <span style="color:#1C1C1C"><span style="font-family:open sans\,sans-serif">was cited by Connecticut </span></span><span style="color:#2D2D2D"><span style="font-family:open sans\,sans-serif">Magazine </span></span><span style="color:#1C1C1C"><span style="font-family:open sans\,sans-serif">as </span></span><span style="color:#2D2D2D"><span style="font-family:open sans\,sans-serif">&quot\;one </span></span><span style="color:#1C1C1C"><span style="font-family:open sans\,sans-serif">the state&#39\;s </span></span><span style="color:#2D2D2D"><span style="font-family:open sans\,sans-serif">most </span></span><span style="color:#1C1C1C"><span style="font-family:open sans\,sans-serif">stand up </span></span><span style="color:#2D2D2D"><span style="font-family:open sans\,sans-serif">citizens&quot\; </span></span><span style="color:#1C1C1C"><span style="font-family:open sans\,sans-serif">in the magazine&#39\;s &quot\;Standing Up for Connecticut</span></span><span style="color:#2D2D2D"><span style="font-family:open sans\,sans-serif">&quot\; issue.</span></span><br />\n&nbsp\;<br />\n<span style="color:black"><span style="font-family:open sans\,sans-serif"><span style="font-size:12.0pt">The Starlight Benefit&rsquo\;s net proceeds support the many programs and services offered by Vista Life Innovations\, Inc.&mdash\;a non-profit organization based along the Connecticut shoreline that provides services and resources to assist individuals with disabilities to achieve personal success.</span></span></span><br />\n<span style="color:black"><span style="font-family:open sans\,sans-serif"><span style="font-size:12.0pt">Tickets and event sponsorship opportunities are available at www.vistalifeinnovations.org/starlight. For more information\, please contact Lori Cartwright\, Manager of Organizational Development\, at 860-399-8080 ext. 268 or lcartwright@vistalifeinnovations.org.&nbsp\;&nbsp\; </span></span></span><br />\n&nbsp\;
LOCATION:Water's Edge Resort & Spa 1525 Boston Post Rd Westbrook\, CT 06498
UID:e.1932.25198
SEQUENCE:3
DTSTAMP:20260420T153248Z
URL:https://business.middlesexchamber.com/events/details/vista-s-starlight-benefit-2023-25198
END:VEVENT

END:VCALENDAR
