BEGIN:VCALENDAR
VERSION:2.0
PRODID:-//ChamberMaster//Event Calendar 2.0//EN
METHOD:PUBLISH
X-PUBLISHED-TTL:P3D
REFRESH-INTERVAL:P3D
CALSCALE:GREGORIAN
BEGIN:VEVENT
DTSTART:20220826T170000Z
DTEND:20220826T190000Z
X-MICROSOFT-CDO-ALLDAYEVENT:FALSE
SUMMARY:Vista Graduation 2022 Ceremony
DESCRIPTION:At Vista\, graduation is a significant milestone that acknowledges the independence and success that our students have worked so hard to achieve.\n\n\n\nPlease join us as we celebrate and honor the Class of 2022 and their many accomplishments! Keynote Speaker: Robert Friend\, Assistant District Governor of Rotary International District 7980. \n\n\n\nGraduation is free and open to all.  Please RSVP in advance at https://bit.ly/3Ps4tse
X-ALT-DESC;FMTTYPE=text/html:At Vista\, graduation is a significant milestone that acknowledges the independence and success that our students have worked so hard to achieve.<br />\n<br />\nPlease join us as we celebrate and honor the Class of 2022 and their many accomplishments! Keynote Speaker: Robert Friend\, <span style="color:#1C1C1C">Assistant District Governor of Rotary International District 7980. </span><br />\n<br />\nGraduation is free and open to all.&nbsp\; Please RSVP in advance at https://bit.ly/3Ps4tse
LOCATION:The Katherine Hepburn Cultural Arts Center 300 Main Street Old Saybrook\, CT 06475
UID:e.1932.23847
SEQUENCE:3
DTSTAMP:20260421T020751Z
URL:https://business.middlesexchamber.com/events/details/vista-graduation-2022-ceremony-23847
END:VEVENT

END:VCALENDAR
