BEGIN:VCALENDAR
VERSION:2.0
PRODID:-//ChamberMaster//Event Calendar 2.0//EN
METHOD:PUBLISH
X-PUBLISHED-TTL:P3D
REFRESH-INTERVAL:P3D
CALSCALE:GREGORIAN
BEGIN:VEVENT
DTSTART:20201014T160000Z
DTEND:20201014T170000Z
X-MICROSOFT-CDO-ALLDAYEVENT:FALSE
SUMMARY:Virtual Luncheon featuring Dan Hurley\, UConn Men's Head Basketball Coach
DESCRIPTION:Please join us for a Virtual Luncheon\n\nfeaturing\n\nDan Hurley\, UConn Men's Head Basketball Coach
X-ALT-DESC;FMTTYPE=text/html:<h2 style="text-align: center\;">&nbsp\;</h2>\n\n<h3 style="text-align: center\;">Please join us for a Virtual Luncheon<br />\nfeaturing<br />\nDan Hurley\, UConn Men&#39\;s Head Basketball Coach</h3>\n
LOCATION:Zoom
UID:e.1932.19189
SEQUENCE:3
DTSTAMP:20260421T044611Z
URL:https://business.middlesexchamber.com/events/details/virtual-luncheon-featuring-dan-hurley-uconn-men-s-head-basketball-coach-19189
END:VEVENT

END:VCALENDAR
