BEGIN:VCALENDAR
VERSION:2.0
PRODID:-//ChamberMaster//Event Calendar 2.0//EN
METHOD:PUBLISH
X-PUBLISHED-TTL:P3D
REFRESH-INTERVAL:P3D
CALSCALE:GREGORIAN
BEGIN:VEVENT
DTSTART:20220827T120000Z
DTEND:20220827T180000Z
X-MICROSOFT-CDO-ALLDAYEVENT:FALSE
SUMMARY:USPS Job Fair!
DESCRIPTION:The Hartford Main post office is hosting a job fair on August 27th from 8AM to 2PM! \n\n\n\nDiscover excellent job opportunities through USPS in Hartford and the surrounding area! A job with USPS can be very rewarding.\n\n\n\nEnjoy excellent retirement benefits and advancement opportunities from within!
X-ALT-DESC;FMTTYPE=text/html:<span style="color:rgb(85\, 85\, 85)\; font-family:raleway\,sans-serif\; font-size:16px">The Hartford Main post office is hosting a job fair on August 27th from 8AM to 2PM!&nbsp\;<br />\n<br />\nDiscover excellent job opportunities through USPS in Hartford and the surrounding area! A job with USPS can be very rewarding.<br />\n<br />\nEnjoy excellent retirement benefits and advancement opportunities from within!&nbsp\;</span>
LOCATION:Hartford Main Post Office 141 Weston Street Hartford Connecticut 06101
UID:e.1932.23902
SEQUENCE:3
DTSTAMP:20260421T032813Z
URL:https://business.middlesexchamber.com/events/details/usps-job-fair-23902
END:VEVENT

END:VCALENDAR
