BEGIN:VCALENDAR
VERSION:2.0
PRODID:-//ChamberMaster//Event Calendar 2.0//EN
METHOD:PUBLISH
X-PUBLISHED-TTL:P3D
REFRESH-INTERVAL:P3D
CALSCALE:GREGORIAN
BEGIN:VEVENT
DTSTART:20240209T230000Z
DTEND:20240210T000000Z
X-MICROSOFT-CDO-ALLDAYEVENT:FALSE
SUMMARY:Tying the Knot: An Intro to Rope Making and Nautical Knots
DESCRIPTION:Valentine's Day is just around the corner\, so it's the perfect time to explore the nautical history of rope-making and knots at the candle-lit historic Lay-Masin House. In this hands-on experience\, Captain Dan Thompson and August Stromberger of the Connecticut River Museum will guide you through knot tying   both practical (bowline) and pretty (the Celtic love knot). Bring home all your knots as charming souvenirs. Surfridge Brewing Co.\, located at the Witch Hazel Works complex in Essex\, is generously providing beer tastings for this event. Enjoy delicious brews while you learn your knots and snack on refreshments provided by the Museum. This is a limited-capacity event. Tickets must be purchased in advance through the Museum's website.
X-ALT-DESC;FMTTYPE=text/html:Valentine&rsquo\;s Day is just around the corner\, so it&rsquo\;s the perfect time to explore the nautical history of rope-making and knots at the candle-lit historic Lay-Masin House. In this hands-on experience\, Captain Dan Thompson and August Stromberger of the Connecticut River Museum will guide you through knot tying &ndash\; both practical (bowline) and pretty (the Celtic love knot). Bring home all your knots as charming souvenirs. Surfridge Brewing Co.\, located at the Witch Hazel Works complex in Essex\, is generously providing beer tastings for this event. Enjoy delicious brews while you learn your knots and snack on refreshments provided by the Museum. This is a limited-capacity event. Tickets must be purchased in advance through the Museum&rsquo\;s website.
LOCATION:CT River Museum\, 67 Main St.\, Essex\, CT 06426
UID:e.1932.28795
SEQUENCE:3
DTSTAMP:20260420T024040Z
URL:https://business.middlesexchamber.com/events/details/tying-the-knot-an-intro-to-rope-making-and-nautical-knots-28795
END:VEVENT

END:VCALENDAR
