BEGIN:VCALENDAR
VERSION:2.0
PRODID:-//ChamberMaster//Event Calendar 2.0//EN
METHOD:PUBLISH
X-PUBLISHED-TTL:P3D
REFRESH-INTERVAL:P3D
CALSCALE:GREGORIAN
BEGIN:VEVENT
DTSTART:20200519T180000Z
DTEND:20200519T190000Z
X-MICROSOFT-CDO-ALLDAYEVENT:FALSE
SUMMARY:Tuesday Tips: Paycheck Protection Program: Where are We Now? An Up to Date Guide
DESCRIPTION:Paycheck Protection Program and Returning to Work: Where are We Now? An Up to Date Guide\n\n \n\nAs businesses plan their strategies for the gradual reopening of Connecticut\, many still have questions about PPP loans\, are seeking additional opportunities for financing\, and want to know how they can safely bring their employees back to work.\n\n \n\nRetired Judge Robert L. Holzberg of Pullman & Comley will moderate a panel including Nancy A. D. Hancock\, co-chair of Pullman & Comley's Business and Finance practice\, and Jonathan B. Orleans\, chair of the firm's Labor& Employment Law section. Topics will include:\n\n \n\n	Financial Assistance Update: with the funding in the second tranche of the CARES Act's Paycheck Protection Program winding down\, how are businesses working through the PPP?\;\n\n \n\n\n	Employment and the COVID-19 Workplace:  as businesses begin to adjust to a pandemic "new normal\," this segment will address policies and procedures to ensure a safe and effective workplace for employers and employees.\n\n \n\nThere will be ample time for Q&A at the end of the webinar.  Please send any questions in advance to COVID19@pullcom.com.\n\n.
X-ALT-DESC;FMTTYPE=text/html:<strong>Paycheck Protection Program and Returning to Work: Where are We Now? An Up to Date Guide</strong><br />\n&nbsp\;<br />\nAs businesses plan their strategies for the gradual reopening of Connecticut\, many still have questions about PPP loans\, are seeking additional opportunities for financing\, and want to know how they can safely bring their employees back to work.<br />\n&nbsp\;<br />\nRetired Judge Robert L. Holzberg of Pullman &amp\; Comley will moderate a panel including Nancy A. D. Hancock\, co-chair of Pullman &amp\; Comley&rsquo\;s Business and Finance practice\, and Jonathan B. Orleans\, chair of the firm&rsquo\;s Labor&amp\; Employment Law section. Topics will include:<br />\n&nbsp\;\n<ul>\n	<li style="margin-left:0in\;">Financial Assistance Update: with the funding in the second tranche of the CARES Act&rsquo\;s Paycheck Protection Program winding down\, how are businesses working through the PPP?\;</li>\n</ul>\n&nbsp\;\n\n<ul>\n	<li style="margin-left:0in\;">Employment and the COVID-19 Workplace:&nbsp\; as businesses begin to adjust to a pandemic &ldquo\;new normal\,&rdquo\; this segment will address policies and procedures to ensure a safe and effective workplace for employers and employees.</li>\n</ul>\n&nbsp\;<br />\n<span style="font-family:calibri\,sans-serif\;"><span style="font-size:11.0pt\;">There will be ample time for Q&amp\;A at the end of the webinar.&nbsp\; Please send any questions in advance to <a href="mailto:COVID19@pullcom.com">COVID19@pullcom.com</a>.</span></span><br />\n.
LOCATION:This meeting will be held virtually and you will receive your login information via confirmation of your registration.
UID:e.1932.17955
SEQUENCE:3
DTSTAMP:20260425T212124Z
URL:https://business.middlesexchamber.com/events/details/tuesday-tips-paycheck-protection-program-where-are-we-now-an-up-to-date-guide-17955
END:VEVENT

END:VCALENDAR
