BEGIN:VCALENDAR
VERSION:2.0
PRODID:-//ChamberMaster//Event Calendar 2.0//EN
METHOD:PUBLISH
X-PUBLISHED-TTL:P3D
REFRESH-INTERVAL:P3D
CALSCALE:GREGORIAN
BEGIN:VEVENT
DTSTART:20231227T000000Z
DTEND:20231227T013000Z
X-MICROSOFT-CDO-ALLDAYEVENT:FALSE
SUMMARY:Trivia Tuesday at Essex Indoor Golf Center
DESCRIPTION:Test your useless knowledge every Tuesday night!\n\n\nFree admission\, Family-Friendly & Prizes!\n\n\n\nWe have a 35-foot custom bar with a fantastic offering of beers\, cocktails and beverages.\n\n\n\nPlus\, check out our mouth-watering food menu with items served up by our Grumpy Caddy grille!\n\n\n\nExit 3 Off Route 9 (next to the Essex Fire Station)
X-ALT-DESC;FMTTYPE=text/html:<div style="text-align: center\;"><strong>Test your useless knowledge every Tuesday night!</strong></div>\n<br />\nFree admission\, Family-Friendly &amp\; Prizes!<br />\n<br />\nWe have a 35-foot custom bar with a fantastic offering of beers\, cocktails and beverages.<br />\n<br />\nPlus\, check out our mouth-watering food menu with items served up by our Grumpy Caddy grille!<br />\n<br />\nExit 3 Off Route 9 (next to the Essex Fire Station)
LOCATION:Essex Indoor Golf Center 23 Saybrook Road Essex\, CT
UID:e.1932.25513
SEQUENCE:3
DTSTAMP:20260420T054425Z
URL:https://business.middlesexchamber.com/events/details/trivia-tuesday-12-26-2023-25513
END:VEVENT

END:VCALENDAR
