BEGIN:VCALENDAR
VERSION:2.0
PRODID:-//ChamberMaster//Event Calendar 2.0//EN
METHOD:PUBLISH
X-PUBLISHED-TTL:P3D
REFRESH-INTERVAL:P3D
CALSCALE:GREGORIAN
BEGIN:VEVENT
DTSTART:20220705T230000Z
DTEND:20220706T003000Z
X-MICROSOFT-CDO-ALLDAYEVENT:FALSE
SUMMARY:Trivia Night
DESCRIPTION:You bring the brains. We have the beer (and wine\, and hard cider\, and food!)\n\n\n\nBreak up your week with a fun night with friends!\n\n\n\nPresented by "Best Trivia Ever"\, so it's gonna be a blast!\n\n\n\nJoin us for a "Trivia Night That Doesn't Suck"!
X-ALT-DESC;FMTTYPE=text/html:You bring the brains. We have the beer (and wine\, and hard cider\, and food!)<br />\n<br />\nBreak up your week with a fun night with friends!<br />\n<br />\nPresented by &quot\;Best Trivia Ever&quot\;\, so it&#39\;s gonna be a blast!<br />\n<br />\nJoin us for a &quot\;Trivia Night That Doesn&#39\;t Suck&quot\;!
LOCATION:Essex Indoor Golf Center 23 Saybrook Road Essex\, CT. 06426
UID:e.1932.23725
SEQUENCE:3
DTSTAMP:20260421T044443Z
URL:https://business.middlesexchamber.com/events/details/trivia-night-07-05-2022-23725
END:VEVENT

END:VCALENDAR
