BEGIN:VCALENDAR
VERSION:2.0
PRODID:-//ChamberMaster//Event Calendar 2.0//EN
METHOD:PUBLISH
X-PUBLISHED-TTL:P3D
REFRESH-INTERVAL:P3D
CALSCALE:GREGORIAN
BEGIN:VEVENT
DTSTART:20221023T140000Z
DTEND:20221023T170000Z
X-MICROSOFT-CDO-ALLDAYEVENT:FALSE
SUMMARY:TriCircle’s 4th Annual Gala Brunch
DESCRIPTION:TriCircle Gala Brunch - Join us for our annual recovery celebration event!\n\n	\n\n	This fundraiser helps shine light on the fact that recovery is possible\, there is hope!  \n	Emcee: Keith McGilvery -  Fox61 Anchor/Reporter \n\n	Speakers\n\n	Scholarship Winners\n\n	Brunch\n\n	Awards\n\n	Raffles\n\n	\n\n	Giveaways\n\n	\n\n	Purchase tickets here: https://www.eventbrite.com/e/4th-annual-tricircle-gala-brunch-tickets-428561748727
X-ALT-DESC;FMTTYPE=text/html:<ul>\n	<li style="font-size: 14px\;"><span style="font-family:arial\;"><a font-size:="" href="https://tricircleinc.com/wp-content/uploads/2022/09/2022-10-23_GalaBrunch.pdf" open="" style="box-sizing: border-box\; background-color: rgb(251\, 242\, 229)\; transition: all 0.1s ease-in-out 0s\; color: rgb(156\, 111\, 76)\; text-decoration-line: none\; font-family: ">TriCircle Gala Brunch</a><span style="background-color: rgb(251\, 242\, 229)\;">&nbsp\;- Join us for our annual recovery celebration event!<br />\n	<br />\n	This fundraiser helps shine light on the fact that recovery is possible\, there is hope!&nbsp\; </span></span>\n	<p><span style="font-family:arial\;">Emcee: Keith McGilvery -&nbsp\; Fox61 Anchor/Reporter </span></p>\n\n	<p><span style="font-family:arial\;">Speakers</span></p>\n\n	<p><span style="font-family:arial\;">Scholarship Winners</span></p>\n\n	<p><span style="font-family:arial\;">Brunch</span></p>\n\n	<p><span style="font-family:arial\;">Awards</span></p>\n\n	<p><span style="font-family:arial\;">Raffles<br />\n	<br />\n	Giveaways<br />\n	<br />\n	<span style="font-size:14px\;"><span style="color: rgb(76\, 76\, 76)\; background-color: rgb(251\, 242\, 229)\;">Purchase tickets here:&nbsp\;</span><a data-saferedirecturl="https://www.google.com/url?q=https://www.eventbrite.com/e/4th-annual-tricircle-gala-brunch-tickets-428561748727&amp\;source=gmail&amp\;ust=1665187441931000&amp\;usg=AOvVaw2di8aH2a2ZxKkQobDiGMUW" href="https://www.eventbrite.com/e/4th-annual-tricircle-gala-brunch-tickets-428561748727" rel="noopener" style="box-sizing: border-box\; background-color: rgb(251\, 242\, 229)\; transition: all 0.1s ease-in-out 0s\; color: rgb(156\, 111\, 76)\; text-decoration-line: none\; font-family: &quot\;Open Sans&quot\;\; font-size: 18px\;" target="_blank">https://www.eventbrite.com/e/<wbr style="box-sizing: border-box\;" />4th-annual-tricircle-gala-<wbr style="box-sizing: border-box\;" />brunch-tickets-428561748727</a></span></span></p>\n	</li>\n</ul>\n
LOCATION:Wallingford Elks Lodge 1365 148 South Main Street Wallingford\, CT 06492
UID:e.1932.24004
SEQUENCE:3
DTSTAMP:20260421T005304Z
URL:https://business.middlesexchamber.com/events/details/tricircle-s-4th-annual-gala-brunch-24004
END:VEVENT

END:VCALENDAR
