BEGIN:VCALENDAR
VERSION:2.0
PRODID:-//ChamberMaster//Event Calendar 2.0//EN
METHOD:PUBLISH
X-PUBLISHED-TTL:P3D
REFRESH-INTERVAL:P3D
CALSCALE:GREGORIAN
BEGIN:VEVENT
DTSTART:20220715T200000Z
DTEND:20220715T230000Z
X-MICROSOFT-CDO-ALLDAYEVENT:FALSE
SUMMARY:Town of Cromwell Farmers Market
DESCRIPTION:Every Friday from June 3 - September 30.\n\n\n\nEvent features Local Farms\, Vendors\, Food and Live Music!
X-ALT-DESC;FMTTYPE=text/html:<div style="text-align: center\;"><span style="font-size:20px\;"><span style="font-family:tahoma\;">Every Friday from June 3 - September 30.<br />\n<br />\nEvent features Local Farms\, Vendors\, Food and Live Music!</span></span></div>\n
LOCATION:Riverport Park 1 River Road Cromwell CT 06416
UID:e.1932.23705
SEQUENCE:3
DTSTAMP:20260421T044649Z
URL:https://business.middlesexchamber.com/events/details/town-of-cromwell-farmers-market-07-15-2022-23705
END:VEVENT

END:VCALENDAR
