BEGIN:VCALENDAR
VERSION:2.0
PRODID:-//ChamberMaster//Event Calendar 2.0//EN
METHOD:PUBLISH
X-PUBLISHED-TTL:P3D
REFRESH-INTERVAL:P3D
CALSCALE:GREGORIAN
BEGIN:VEVENT
DTSTART:20171013T160000Z
DTEND:20171014T003000Z
X-MICROSOFT-CDO-ALLDAYEVENT:FALSE
SUMMARY:Tip-a-Firefighter
DESCRIPTION:16th Annual Tip a Firefighter presented by MARC Community Resources and Middletown Firefighters Local 1073 at Tuscany Grill in Middletown\n\n\n\nEnjoy a wonderful meal - TIP A FIREFIGHTER and purchase the Firefighters Calendar - supply is limited!!\n\n\n\nProceeds benefit MARC's Adult Skill Development and Leisure Programs
X-ALT-DESC;FMTTYPE=text/html:16th Annual Tip a Firefighter presented by MARC Community Resources and Middletown Firefighters Local 1073 at Tuscany Grill in Middletown<br />\n<br />\nEnjoy a wonderful meal - TIP A FIREFIGHTER and purchase the Firefighters Calendar - supply is limited!!<br />\n<br />\nProceeds benefit MARC&#39\;s Adult Skill Development and Leisure Programs
LOCATION:Tuscany Grill 120 College Street Middletown
UID:e.1932.4629
SEQUENCE:3
DTSTAMP:20260422T214647Z
URL:https://business.middlesexchamber.com/events/details/tip-a-firefighter-4629
END:VEVENT

END:VCALENDAR
