BEGIN:VCALENDAR
VERSION:2.0
PRODID:-//ChamberMaster//Event Calendar 2.0//EN
METHOD:PUBLISH
X-PUBLISHED-TTL:P3D
REFRESH-INTERVAL:P3D
CALSCALE:GREGORIAN
BEGIN:VEVENT
DTSTART:20220723T000000Z
DTEND:20220723T020000Z
X-MICROSOFT-CDO-ALLDAYEVENT:FALSE
SUMMARY:The Sarah Hanahan Jazz Quartet
DESCRIPTION:Sarah Hanahan is an up-and-coming jazz saxophonist in New York City\, currently pursuing her master's degree in Jazz Performance at The Juilliard School.\n\n\n\nIn 2015\, Sarah was awarded a full scholarship to study jazz performance at the Jackie McLean Institute of Jazz within the Hartt School of Music (University of Hartford).
X-ALT-DESC;FMTTYPE=text/html:Sarah Hanahan is an up-and-coming jazz saxophonist in New York City\, currently pursuing her master&rsquo\;s degree in Jazz Performance at The Juilliard School.<br />\n<br />\nIn 2015\, Sarah was awarded a full scholarship to study jazz performance at the Jackie McLean Institute of Jazz within the Hartt School of Music (University of Hartford).
LOCATION:The Buttonwood Tree Performing Arts Center 605 Main Street Middletown\, CT
UID:e.1932.23844
SEQUENCE:3
DTSTAMP:20260421T033156Z
URL:https://business.middlesexchamber.com/events/details/the-sarah-hanahan-jazz-quartet-23844
END:VEVENT

END:VCALENDAR
