BEGIN:VCALENDAR
VERSION:2.0
PRODID:-//ChamberMaster//Event Calendar 2.0//EN
METHOD:PUBLISH
X-PUBLISHED-TTL:P3D
REFRESH-INTERVAL:P3D
CALSCALE:GREGORIAN
BEGIN:VEVENT
DTSTART:20230425T223000Z
DTEND:20230426T003000Z
X-MICROSOFT-CDO-ALLDAYEVENT:FALSE
SUMMARY:The MEWS+ StartUpMX Program - Session 7: Pitch Review & Final Business Plan Review
DESCRIPTION:
X-ALT-DESC;FMTTYPE=text/html:
LOCATION:
UID:e.1932.25189
SEQUENCE:3
DTSTAMP:20260420T192636Z
URL:https://business.middlesexchamber.com/events/details/the-mews-startupmx-program-session-7-pitch-review-final-business-plan-review-25189
END:VEVENT

END:VCALENDAR
