BEGIN:VCALENDAR
VERSION:2.0
PRODID:-//ChamberMaster//Event Calendar 2.0//EN
METHOD:PUBLISH
X-PUBLISHED-TTL:P3D
REFRESH-INTERVAL:P3D
CALSCALE:GREGORIAN
BEGIN:VEVENT
DTSTART:20230405T223000Z
DTEND:20230406T003000Z
X-MICROSOFT-CDO-ALLDAYEVENT:FALSE
SUMMARY:The MEWS+ StartUpMX Program - Session 4: Market Research & Marketing Strategy/Planning
DESCRIPTION:
X-ALT-DESC;FMTTYPE=text/html:
LOCATION:
UID:e.1932.25186
SEQUENCE:3
DTSTAMP:20260420T181501Z
URL:https://business.middlesexchamber.com/events/details/the-mews-startupmx-program-session-4-market-research-marketing-strategy-planning-25186
END:VEVENT

END:VCALENDAR
