BEGIN:VCALENDAR
VERSION:2.0
PRODID:-//ChamberMaster//Event Calendar 2.0//EN
METHOD:PUBLISH
X-PUBLISHED-TTL:P3D
REFRESH-INTERVAL:P3D
CALSCALE:GREGORIAN
BEGIN:VEVENT
DTSTART:20230314T223000Z
DTEND:20230315T003000Z
X-MICROSOFT-CDO-ALLDAYEVENT:FALSE
SUMMARY:The MEWS+ StartUpMX Program - Session 1: Business Planning\, Risk Assessment\, Basic Business Budgeting
DESCRIPTION:
X-ALT-DESC;FMTTYPE=text/html:
LOCATION:
UID:e.1932.25183
SEQUENCE:3
DTSTAMP:20260420T181246Z
URL:https://business.middlesexchamber.com/events/details/the-mews-startupmx-program-session-1-business-planning-risk-assessment-basic-business-budgeting-25183
END:VEVENT

END:VCALENDAR
