BEGIN:VCALENDAR
VERSION:2.0
PRODID:-//ChamberMaster//Event Calendar 2.0//EN
METHOD:PUBLISH
X-PUBLISHED-TTL:P3D
REFRESH-INTERVAL:P3D
CALSCALE:GREGORIAN
BEGIN:VEVENT
DTSTART:20230316T230000Z
DTEND:20230317T003000Z
X-MICROSOFT-CDO-ALLDAYEVENT:FALSE
SUMMARY:The Lion\, the Witch and the Wardrobe
DESCRIPTION:Oddfellows Playhouse Junior Repertory Company is staging C.S. Lewis' classic novel The Lion\, the Witch and the Wardrobe this month.\n\n\n\nThe production will run March 16 - 18 at Oddfellows Playhouse\, located at 128 Washington Street in Middletown. \n\nIn The Lion\, the Witch and the Wardrobe\, four children disappear into a cupboard and end up in the land of Narnia\, where they become central in a struggle for power between the noble lion Aslan and the White Witch. The siblings embark on a remarkable journey of love\, forgiveness and courage as they try to find their way back home.  The Lion\, the Witch and the Wardrobe is brought to life by a cast of 15 young actors\, ages 12-14\, who make up the Junior Repertory Company. \n\nDirected by Justin Pesce\, The Lion\, the Witch and the Wardrobe features scenic design by Dan Schmidt\, costume design by Rebecca Welles\, lighting design by Douglas Murry\, sound design by Mike Skinner\, and properties design by Caleb Warner. The dramatic adaptation was written by Joseph Robinette.\n\nPerformances will be at 7pm on March 16  -18\, with a 2pm matinee performance on Saturday\, March 18. Tickets for Alice in Wonderland are $18 for adults and $10 for students\, with a "Pay-What-You-Can" preview on March 16. "Big Heart" tickets for $25 are available for anyone wanting to support Oddfellows' work with young people\, the arts and social justice. Tickets may be purchased at www.oddfellows.org or by emailing info@oddfellows.org or calling (860) 347-6143. \nThe Lion\, the Witch and the Wardrobe is produced by special arrangement with the Dramatic Publishing Company of Woodstock\, Illinois. The Junior Repertory Company production of The Lion\, the Witch and the Wardrobe is made possible with generous grants from the Middletown Commission on the Arts\, the City of Middletown\, and the Maximilian E. and Marion O. Hoffman Foundation. Additional support comes from the Connecticut Office of the Arts/DECD\; The Fund for Greater Hartford\; Liberty Bank Foundation\; State of Connecticut Judicial Branch (Youth Violence Prevention)\; Middletown Youth Services Bureau\; Thomas J. Atkins Memorial Trust Fund\; Middlesex United Way\; CT Humanities Cultural Fund\; New England Foundation for the Arts New England Arts Resilience Fund\; Middlesex United Way\; and many generous individual donors.
X-ALT-DESC;FMTTYPE=text/html:<p><span style="font-family:arial\;"><span style="background-color: transparent\; color: rgb(0\, 0\, 0)\; font-size: 12pt\;">Oddfellows Playhouse Junior Repertory Company is staging C.S. Lewis&#39\; classic novel </span><em>The Lion\, the Witch and the Wardrobe </em><span style="background-color: transparent\; color: rgb(0\, 0\, 0)\; font-size: 12pt\;">this month.<br />\n<br />\nThe production will run March 16 - 18 at Oddfellows Playhouse\, located at 128 Washington Street in Middletown.&nbsp\;</span></span></p>\n\n<p><span style="font-family:arial\;"><span style="background-color: transparent\; color: rgb(0\, 0\, 0)\; font-size: 12pt\;">In </span><em>The Lion\, the Witch and the Wardrobe</em><span style="background-color: transparent\; color: rgb(0\, 0\, 0)\; font-size: 12pt\;">\, four children disappear into a cupboard and end up in the land of Narnia\, where they become central in a struggle for power between the noble lion Aslan and the White Witch. </span><span style="color: rgb(34\, 34\, 34)\; font-size: 12pt\;">The siblings embark on a remarkable journey of love\, forgiveness and courage as they try to find their way back home. </span><span style="background-color: transparent\; color: rgb(0\, 0\, 0)\; font-size: 12pt\;">&nbsp\;</span><em>The Lion\, the Witch and the Wardrobe</em><span style="background-color: transparent\; color: rgb(0\, 0\, 0)\; font-size: 12pt\;"> is brought to life by a cast of 15 young actors\, ages 12-14\, who make up the Junior Repertory Company.&nbsp\;</span></span></p>\n\n<p><span style="font-family:arial\;"><span style="color: rgb(34\, 34\, 34)\; font-size: 12pt\;">Directed by Justin Pesce\, </span><em>The Lion\, the Witch and the Wardrobe</em><span style="color: rgb(34\, 34\, 34)\; font-size: 12pt\;"> features scenic design by Dan Schmidt\, costume design by Rebecca Welles\, lighting design by Douglas Murry\, sound design by Mike Skinner\, and properties design by Caleb Warner. The dramatic adaptation was written by Joseph Robinette.</span></span></p>\n\n<p><span style="font-family:arial\;"><span style="background-color: transparent\; color: rgb(0\, 0\, 0)\; font-size: 12pt\;">Performances will be at 7pm on March 16&nbsp\; -18\, with a 2pm matinee performance on Saturday\, March 18. </span><span style="color: rgb(34\, 34\, 34)\; font-size: 12pt\;">Tickets for </span><em>Alice in Wonderland </em><span style="color: rgb(34\, 34\, 34)\; font-size: 12pt\;">are $18 for adults and $10 for students\, with </span><span style="background-color: transparent\; color: rgb(0\, 0\, 0)\; font-size: 12pt\;">a &ldquo\;Pay-What-You-Can&rdquo\; preview on March 16</span><span style="color: rgb(34\, 34\, 34)\; font-size: 12pt\;">. </span><span style="background-color: transparent\; color: rgb(0\, 0\, 0)\; font-size: 12pt\;">&ldquo\;Big Heart&rdquo\; tickets for $25 are available for anyone wanting to support Oddfellows&rsquo\; work with young people\, the arts and social justice.</span><span style="color: rgb(34\, 34\, 34)\; font-size: 12pt\;"> Tickets may be purchased at </span><a href="http://www.oddfellows.org" style="text-decoration-line: none\;"><span style="color: rgb(17\, 85\, 204)\; font-size: 12pt\;">www.oddfellows.org</span></a><span style="color: rgb(34\, 34\, 34)\; font-size: 12pt\;"> or by emailing </span><a href="mailto:info@oddfellows.org" style="text-decoration-line: none\;"><span style="color: rgb(17\, 85\, 204)\; font-size: 12pt\;">info@oddfellows.org</span></a><span style="color: rgb(34\, 34\, 34)\; font-size: 12pt\;"> or calling (860) 347-6143.</span><span style="background-color: transparent\; color: rgb(0\, 0\, 0)\; font-size: 12pt\;">&nbsp\;</span></span></p>\n<span style="font-family:arial\;"><em>The Lion\, the Witch and the Wardrobe </em><span style="color: rgb(34\, 34\, 34)\; font-size: 12pt\;">is produced by special arrangement with the Dramatic Publishing Company of Woodstock\, Illinois. The Junior Repertory Company production of </span><em>The Lion\, the Witch and the Wardrobe </em><span style="color: rgb(34\, 34\, 34)\; font-size: 12pt\;">is</span><span style="background-color: transparent\; color: rgb(0\, 0\, 0)\; font-size: 12pt\;"> made possible with generous grants from the Middletown Commission on the Arts\, the City of Middletown\, and the Maximilian E. and Marion O. Hoffman Foundation. Additional&nbsp\;support comes from the Connecticut Office of the Arts/DECD\; The Fund for Greater Hartford\; Liberty Bank Foundation\; State&nbsp\;of Connecticut Judicial Branch (Youth Violence Prevention)\; Middletown Youth Services Bureau\; Thomas J. Atkins Memorial Trust Fund\; Middlesex United Way\; CT Humanities Cultural Fund\; New England Foundation for the Arts New England Arts Resilience Fund\; Middlesex United Way\; and many generous individual donors</span><span style="background-color: transparent\; color: rgb(0\, 0\, 0)\; font-size: 11pt\;">.</span></span>
LOCATION:Oddfellows Playhouse 128 Washington Street Middletown\, CT
UID:e.1932.25177
SEQUENCE:3
DTSTAMP:20260420T181425Z
URL:https://business.middlesexchamber.com/events/details/the-lion-the-witch-and-the-wardrobe-25177
END:VEVENT

END:VCALENDAR
