BEGIN:VCALENDAR
VERSION:2.0
PRODID:-//ChamberMaster//Event Calendar 2.0//EN
METHOD:PUBLISH
X-PUBLISHED-TTL:P3D
REFRESH-INTERVAL:P3D
CALSCALE:GREGORIAN
BEGIN:VEVENT
DTSTART:20220721T233000Z
DTEND:20220722T010000Z
X-MICROSOFT-CDO-ALLDAYEVENT:FALSE
SUMMARY:The Grassy Strip Concert Series at Madison Beach Hotel
DESCRIPTION:The greatly anticipated Grassy Strip Concert Series at Madison Beach Hotel is back for the 2022 summer season!  Free\, live outdoor shows begin June 30 and run each Thursday for ten weeks.\n\n\n\n?We are beyond thrilled to welcome this treasured concert series back to the Grassy Strip\,? said General Manager John Mathers. ?The weekly summer experience bonds us as a community as we create timeless memories at this magical place on Long Island Sound.?
X-ALT-DESC;FMTTYPE=text/html:The greatly anticipated Grassy Strip Concert Series at Madison Beach Hotel is back for the 2022 summer season!&nbsp\; Free\, live outdoor shows begin June 30 and run each Thursday for ten weeks.<br />\n<br />\n?We are beyond thrilled to welcome this treasured concert series back to the Grassy Strip\,? said General Manager John Mathers. ?The weekly summer experience bonds us as a community as we create timeless memories at this magical place on Long Island Sound.?
LOCATION:Madison Beach Hotel 94 West Wharf Road Madison\, Connecticut.
UID:e.1932.23836
SEQUENCE:3
DTSTAMP:20260421T044643Z
URL:https://business.middlesexchamber.com/events/details/the-grassy-strip-concert-series-at-madison-beach-hotel-07-21-2022-23836
END:VEVENT

END:VCALENDAR
