BEGIN:VCALENDAR
VERSION:2.0
PRODID:-//ChamberMaster//Event Calendar 2.0//EN
METHOD:PUBLISH
X-PUBLISHED-TTL:P3D
REFRESH-INTERVAL:P3D
CALSCALE:GREGORIAN
BEGIN:VEVENT
DTSTART:20230422T230000Z
DTEND:20230423T020000Z
X-MICROSOFT-CDO-ALLDAYEVENT:FALSE
SUMMARY:The Expression Of Fashion VIP
DESCRIPTION:The Expression Of Fashion\n\n\nMiddletown Fashion Week presents the influence on fashion with amazing creative designers showcasing the trends in fashion and a presentation that will blow your mind.\n\n\n\nJoin us for a week of fashion vending & our high-end runway showcases featuring designers from across the country\, and local designers at our premiere Middletown venues. A week of Art\, fashion\, models\, entertainment\, and more!!!\n\n\n\n  Visual Art Showcase\n\n  Thrifty Fashion Showcase\n\n  High Fashion Runway Showcase\n\n  Model Party\n\n  Branding Event\n\n  Fashion Parties\n\n  Meet and Greet\n\n  Networking with fashion professionals\n\n  Best Dress Runway Competition
X-ALT-DESC;FMTTYPE=text/html:<h4 aria-level="4" class="x-el x-el-h4 c2-1 c2-2 c2-c c2-d c2-3e c2-3f c2-24 c2-25 c2-2l c2-3 c2-h c2-4g c2-j c2-4h c2-4i c2-4j c2-4k" data-aid="SERVICE_LIST_ITEM_SERVICE_NAME" data-typography="HeadingDelta" data-ux="HeadingProduct" role="heading" style="box-sizing: inherit\; font-family: Helvetica\, arial\, sans-serif\; overflow-wrap: break-word\; color: rgb(255\, 255\, 255)\; margin: 0px\; line-height: 1.25\; font-size: 24px\; background-color: rgb(74\, 50\, 50)\;">The Expression Of Fashion</h4>\n<br />\n<span style="font-size:24px\;">Middletown Fashion Week presents the influence on fashion with amazing creative designers showcasing the trends in fashion and a presentation that will blow your mind.<br />\n<br />\nJoin us for a week of fashion vending &amp\; our high-end runway showcases featuring designers from across the country\, and local designers at our premiere Middletown venues. A week of Art\, fashion\, models\, entertainment\, and more!!!<br />\n<br />\n&bull\; Visual Art Showcase<br />\n&bull\; Thrifty Fashion Showcase<br />\n&bull\; High Fashion Runway Showcase<br />\n&bull\; Model Party<br />\n&bull\; Branding Event<br />\n&bull\; Fashion Parties<br />\n&bull\; Meet and Greet<br />\n&bull\; Networking with fashion professionals<br />\n&bull\; Best Dress Runway Competition</span>
LOCATION:Middletown Recreation Center 1 Wilderman's Way\, Middletown\, CT 06457
UID:e.1932.25257
SEQUENCE:3
DTSTAMP:20260420T153423Z
URL:https://business.middlesexchamber.com/events/details/the-expression-of-fashion-vip-25257
END:VEVENT

END:VCALENDAR
