BEGIN:VCALENDAR
VERSION:2.0
PRODID:-//ChamberMaster//Event Calendar 2.0//EN
METHOD:PUBLISH
X-PUBLISHED-TTL:P3D
REFRESH-INTERVAL:P3D
CALSCALE:GREGORIAN
BEGIN:VEVENT
DTSTART;VALUE=DATE:20220901
DTEND;VALUE=DATE:20220902
TRANSP:TRANSPARENT
X-MICROSOFT-CDO-ALLDAYEVENT:TRUE
SUMMARY:The Compass - Official Newsletter of the Rocky Hill Senior/Community Center
DESCRIPTION:Click Here to read the September/October Edition of \n\nThe Compass\n\nOfficial Newsletter of the Rocky Hill Senior/Community Center
X-ALT-DESC;FMTTYPE=text/html:<div style="text-align: center\;"><a href="https://chambermaster.blob.core.windows.net/userfiles/UserFiles/chambers/1932/File/Compass-September-October-2022.pdf">Click Here</a> to read the September/October Edition of&nbsp\;<br />\nThe Compass<br />\n<em>Official Newsletter of the Rocky Hill Senior/Community Center</em></div>\n
LOCATION:
UID:e.1932.23930
SEQUENCE:3
DTSTAMP:20260421T005609Z
URL:https://business.middlesexchamber.com/events/details/the-compass-official-newsletter-of-the-rocky-hill-senior-community-center-23930
END:VEVENT

END:VCALENDAR
