BEGIN:VCALENDAR
VERSION:2.0
PRODID:-//ChamberMaster//Event Calendar 2.0//EN
METHOD:PUBLISH
X-PUBLISHED-TTL:P3D
REFRESH-INTERVAL:P3D
CALSCALE:GREGORIAN
BEGIN:VEVENT
DTSTART;VALUE=DATE:20240729
DTEND;VALUE=DATE:20240730
TRANSP:TRANSPARENT
X-MICROSOFT-CDO-ALLDAYEVENT:TRUE
SUMMARY:The Chamber is Closed Today
DESCRIPTION:The Chamber will be closed today\, Monday\, July 29\, 2024 for an off site staff meeting. \n\n\n\nThe Chamber will reopen on Tuesday\, July 30\, 2024.
X-ALT-DESC;FMTTYPE=text/html:The Chamber will be closed today\, Monday\, July 29\, 2024 for an off site staff meeting.&nbsp\;<br />\n<br />\nThe Chamber will reopen on Tuesday\, July 30\, 2024.
LOCATION:
UID:e.1932.29683
SEQUENCE:3
DTSTAMP:20260419T202625Z
URL:https://business.middlesexchamber.com/events/details/the-chamber-is-closed-today-29683
END:VEVENT

END:VCALENDAR
