BEGIN:VCALENDAR
VERSION:2.0
PRODID:-//ChamberMaster//Event Calendar 2.0//EN
METHOD:PUBLISH
X-PUBLISHED-TTL:P3D
REFRESH-INTERVAL:P3D
CALSCALE:GREGORIAN
BEGIN:VEVENT
DTSTART:20171118T200000Z
DTEND:20171118T220000Z
X-MICROSOFT-CDO-ALLDAYEVENT:FALSE
SUMMARY:Teen Open Mic
DESCRIPTION:Teens\, looking for a place to perform? A place to recite your latest poem?\n\nHow about your newest original scene? Or\, a time-tested monologue? If so\, The Buttonwood Tree Teen Open Mic is FOR YOU!\n\nBe a part of Buttonwood's first ever open mic specifically for teen performers ages 12-18. Perform any type of artwork: you can use our piano or bring a guitar\, ukulele\, or other instrument to play! Cover your favorite song or perform an original! Whether it is your first time performing or you are an experienced teen musician\, poet\, or artist\, the Buttonwood Tree is a positive\, supporting environment for teens to perform. Parents and friends are welcome to come support!\n\nThanks to Matt at the Middlesex Music Academy\, a back line of a full drum kit\, bass amp and guitar amp can be provided with advance notice. Email or call us to make arrangements.
X-ALT-DESC;FMTTYPE=text/html:<p>Teens\, looking for a place to perform? A place to recite your latest poem?<br />\nHow about your newest original scene? Or\, a time-tested monologue? If so\,&nbsp\;<strong>The Buttonwood Tree Teen Open Mic</strong>&nbsp\;is FOR YOU!</p>\n\n<p>Be a part of Buttonwood&rsquo\;s first ever open mic specifically for teen performers ages 12-18. Perform any type of artwork: you can use our piano or bring a guitar\, ukulele\, or other instrument to play! Cover your favorite song or perform an original! Whether it is your first time performing or you are an experienced teen musician\, poet\, or artist\, the Buttonwood Tree is a positive\, supporting environment for teens to perform. Parents and friends are welcome to come support!</p>\n\n<p>Thanks to Matt at the Middlesex Music Academy\, a back line of a full drum kit\, bass amp and guitar amp can be provided with advance notice. Email or call us to make arrangements.</p>\n
LOCATION:The Buttonwood Tree 605 Main Street Middletown\, CT
UID:e.1932.4833
SEQUENCE:3
DTSTAMP:20260422T154331Z
URL:https://business.middlesexchamber.com/events/details/teen-open-mic-4833
END:VEVENT

END:VCALENDAR
