BEGIN:VCALENDAR
VERSION:2.0
PRODID:-//ChamberMaster//Event Calendar 2.0//EN
METHOD:PUBLISH
X-PUBLISHED-TTL:P3D
REFRESH-INTERVAL:P3D
CALSCALE:GREGORIAN
BEGIN:VEVENT
DTSTART:20230422T180000Z
DTEND:20230422T220000Z
X-MICROSOFT-CDO-ALLDAYEVENT:FALSE
SUMMARY:Tacos & Tequila Fiesta
DESCRIPTION:Celebrate all things Tacos & Tequila at Foxwoods Resort Casino \n\nSaturday\, April 22\, 2023.\n\n\nEnjoy delicious tacos and street food while sampling tequila or sipping a margarita or take a spin on our mechanical bull. It's not just a tasting\, it's a fiesta!\n\n\n\nMust be 21+ to enter and present valid ID upon entering the event. Last entry 5:15PM. Last pour at 5:30PM. By entering this Event the Guest assumes all risk of injury to him/herself or his/her property. Foxwoods disclaims any liability for injuries and/or property damage.\n\n\n\nYour ticket includes:   Unlimited tequila samples from our vendors   Access to the event space and 360 selfie station   3 tacos Additional food and specialty drinks will be available for purchase at an additional cost at the event.\n\n\n\nBull ride not included in your ticket - ticket to ride the bull can be purchased during the event for an additional cost:   Bull ride - $8   Combo (1 ride and 1 t-shirt) - $20   "I Rode the Bull" t-shirt - $15   Last bull ride - 5:15pm
X-ALT-DESC;FMTTYPE=text/html:<div style="text-align: center\;"><strong>Celebrate all things Tacos &amp\; Tequila at Foxwoods Resort Casino&nbsp\;<br />\nSaturday\, April 22\, 2023.</strong></div>\n<br />\nEnjoy delicious tacos and street food while sampling tequila or sipping a margarita or take a spin on our mechanical bull. It&rsquo\;s not just a tasting\, it&rsquo\;s a fiesta!<br />\n<br />\nMust be 21+ to enter and present valid ID upon entering the event. Last entry 5:15PM. Last pour at 5:30PM. By entering this Event the Guest assumes all risk of injury to him/herself or his/her property. Foxwoods disclaims any liability for injuries and/or property damage.<br />\n<br />\nYour ticket includes: &bull\; Unlimited tequila samples from our vendors &bull\; Access to the event space and 360 selfie station &bull\; 3 tacos Additional food and specialty drinks will be available for purchase at an additional cost at the event.<br />\n<br />\nBull ride not included in your ticket - ticket to ride the bull can be purchased during the event for an additional cost: &bull\; Bull ride - $8 &bull\; Combo (1 ride and 1 t-shirt) - $20 &bull\; &ldquo\;I Rode the Bull&rdquo\; t-shirt - $15 &bull\; Last bull ride - 5:15pm
LOCATION:Foxwoods Resort Casino in the Rainmaker Expo Center 350 TROLLEY LINE BOULEVARD MASHANTUCKET\, CT 06338
UID:e.1932.25248
SEQUENCE:3
DTSTAMP:20260420T153239Z
URL:https://business.middlesexchamber.com/events/details/tacos-tequila-fiesta-25248
END:VEVENT

END:VCALENDAR
