BEGIN:VCALENDAR
VERSION:2.0
PRODID:-//ChamberMaster//Event Calendar 2.0//EN
METHOD:PUBLISH
X-PUBLISHED-TTL:P3D
REFRESH-INTERVAL:P3D
CALSCALE:GREGORIAN
BEGIN:VEVENT
DTSTART:20200731T220000Z
DTEND:20200801T011500Z
X-MICROSOFT-CDO-ALLDAYEVENT:FALSE
SUMMARY:Taco & Tequila Cruise
DESCRIPTION:July 10\, 17\, 24 & 31 It's time for some Tacos\, Tequila and Tunes aboard the Tacos & Tequila Cruise!\n\n\n\nRide our vintage train pulled by our antique diesel locomotive to our riverboat\, where you will enjoy a Margarita\, a taco bar and other light food and live music.\n\n\n\nTicket includes train & boat excursion\, (1) Margarita or other beverage\, taco bar and other light food and music. Additional beverages are available for purchase aboard the boat.\n\n\n\n$65.00 (Age 21 + only) Board Train Essex Station: 6:00 pm Train & Tacos/Tequila Cruise Excursion: 6:15 pm   9:15 pm\n\n\n\nLive music by Mariachi Son de mi Tierra CT
X-ALT-DESC;FMTTYPE=text/html:July 10\, 17\, 24 &amp\; 31 It&rsquo\;s time for some Tacos\, Tequila and Tunes aboard the Tacos &amp\; Tequila Cruise!<br />\n<br />\nRide our vintage train pulled by our antique diesel locomotive to our riverboat\, where you will enjoy a Margarita\, a taco bar and other light food and live music.<br />\n<br />\nTicket includes train &amp\; boat excursion\, (1) Margarita or other beverage\, taco bar and other light food and music. Additional beverages are available for purchase aboard the boat.<br />\n<br />\n$65.00 (Age 21 + only) Board Train Essex Station: 6:00 pm Train &amp\; Tacos/Tequila Cruise Excursion: 6:15 pm &ndash\; 9:15 pm<br />\n<br />\nLive music by Mariachi Son de mi Tierra CT
LOCATION:Essex Steam Train & Riverboat 1 Railroad Essex\, CT
UID:e.1932.17269
SEQUENCE:3
DTSTAMP:20260425T212445Z
URL:https://business.middlesexchamber.com/events/details/taco-tequila-cruise-07-31-2020-17269
END:VEVENT

END:VCALENDAR
