BEGIN:VCALENDAR
VERSION:2.0
PRODID:-//ChamberMaster//Event Calendar 2.0//EN
METHOD:PUBLISH
X-PUBLISHED-TTL:P3D
REFRESH-INTERVAL:P3D
CALSCALE:GREGORIAN
BEGIN:VEVENT
DTSTART:20230419T160000Z
DTEND:20230419T170000Z
X-MICROSOFT-CDO-ALLDAYEVENT:FALSE
SUMMARY:Swing Bridge Committee
DESCRIPTION:
X-ALT-DESC;FMTTYPE=text/html:
LOCATION:Middlesex Chamber 393 Main Street Middletown\, CT or join via Zoom
UID:e.1932.24288
SEQUENCE:3
DTSTAMP:20260420T181628Z
URL:https://business.middlesexchamber.com/events/details/swing-bridge-committee-04-19-2023-24288
END:VEVENT

END:VCALENDAR
