BEGIN:VCALENDAR
VERSION:2.0
PRODID:-//ChamberMaster//Event Calendar 2.0//EN
METHOD:PUBLISH
X-PUBLISHED-TTL:P3D
REFRESH-INTERVAL:P3D
CALSCALE:GREGORIAN
BEGIN:VEVENT
DTSTART:20251027T130000Z
DTEND:20251027T140000Z
X-MICROSOFT-CDO-ALLDAYEVENT:FALSE
SUMMARY:Support the Troops Committee
DESCRIPTION:The Support the Troops Committee is tasked with planning and executing the chamber's annual Support the Troops and Honor the Veterans Member Breakfast Meeting that is held every November.\n\n \n\n The committee includes representatives of all of the local Veterans Organizations\, past recipients of the William J. Pomfret Veteran Community Service Award\, and business people from many different industry sectors.\n\n \n\nThe Support the Troops Committee works to identify potential speakers for the major chamber event\, and serves as a resource to the chamber at large on issues such as the employment of veterans and other important issues.
X-ALT-DESC;FMTTYPE=text/html:The Support the Troops Committee is tasked with planning and executing the chamber&rsquo\;s annual Support the Troops and Honor the Veterans Member Breakfast Meeting that is held every November.<br />\n&nbsp\;<br />\n&nbsp\;The committee includes representatives of all of the local Veterans Organizations\, past recipients of the William J. Pomfret Veteran Community Service Award\, and business people from many different industry sectors.<br />\n&nbsp\;<br />\nThe Support the Troops Committee works to identify potential speakers for the major chamber event\, and serves as a resource to the chamber at large on issues such as the employment of veterans and other important issues.
LOCATION:Middlesex Chamber 318 High Street Middletown\, CT
UID:e.1932.33910
SEQUENCE:3
DTSTAMP:20260424T212848Z
URL:https://business.middlesexchamber.com/events/details/support-the-troops-committee-33910
END:VEVENT

END:VCALENDAR
