BEGIN:VCALENDAR
VERSION:2.0
PRODID:-//ChamberMaster//Event Calendar 2.0//EN
METHOD:PUBLISH
X-PUBLISHED-TTL:P3D
REFRESH-INTERVAL:P3D
CALSCALE:GREGORIAN
BEGIN:VEVENT
DTSTART:20230307T190000Z
DTEND:20230307T200000Z
X-MICROSOFT-CDO-ALLDAYEVENT:FALSE
SUMMARY:Supplier Diversity Business Connections webinar
DESCRIPTION:NBCUniversal and the Women's Business Development Council will host a Supplier Diversity Business Connections webinar on Tuesday\, March 7\, 2023\, at 2:00-3:00 PM EST. Connecticut businesses interested in learning how to become a certified diverse-owned business and work with NBCUniversal are invited to join the information session.\n\n \n\nClick here for more information and the link to register.
X-ALT-DESC;FMTTYPE=text/html:<span style="background:white\;"><span style="color:black\;"><span style="font-family:arial\,sans-serif\;"><span style="font-size:10.0pt\;">NBCUniversal and the Women&rsquo\;s Business Development Council will host a Supplier Diversity Business Connections webinar on Tuesday\, March 7\, 2023\, at 2:00-3:00 PM EST. Connecticut businesses interested in learning how to become a certified diverse-owned business and work with NBCUniversal are invited to join the information session.</span></span></span></span><br />\n&nbsp\;<br />\n<span style="background:white\;"><span style="color:black\;"><span style="font-family:arial\,sans-serif\;"><span style="font-size:10.0pt\;"><a href="https://www.nbcuniversal.com/press-release/nbcuniversal-and-womens-business-development-council-host-supplier-diversity-webinar">Click here</a> for more information and the link to register.</span></span></span></span>
LOCATION:
UID:e.1932.25153
SEQUENCE:3
DTSTAMP:20260420T165038Z
URL:https://business.middlesexchamber.com/events/details/supplier-diversity-business-connections-webinar-25153
END:VEVENT

END:VCALENDAR
